BEGIN:VCALENDAR
VERSION:2.0
PRODID:-//Austro-American Association of Boston - ECPv6.15.20//NONSGML v1.0//EN
CALSCALE:GREGORIAN
METHOD:PUBLISH
X-ORIGINAL-URL:https://www.austria-boston.org
X-WR-CALDESC:Events for Austro-American Association of Boston
REFRESH-INTERVAL;VALUE=DURATION:PT1H
X-Robots-Tag:noindex
X-PUBLISHED-TTL:PT1H
BEGIN:VTIMEZONE
TZID:America/New_York
BEGIN:DAYLIGHT
TZOFFSETFROM:-0500
TZOFFSETTO:-0400
TZNAME:EDT
DTSTART:20240310T070000
END:DAYLIGHT
BEGIN:STANDARD
TZOFFSETFROM:-0400
TZOFFSETTO:-0500
TZNAME:EST
DTSTART:20241103T060000
END:STANDARD
BEGIN:DAYLIGHT
TZOFFSETFROM:-0500
TZOFFSETTO:-0400
TZNAME:EDT
DTSTART:20250309T070000
END:DAYLIGHT
BEGIN:STANDARD
TZOFFSETFROM:-0400
TZOFFSETTO:-0500
TZNAME:EST
DTSTART:20251102T060000
END:STANDARD
BEGIN:DAYLIGHT
TZOFFSETFROM:-0500
TZOFFSETTO:-0400
TZNAME:EDT
DTSTART:20260308T070000
END:DAYLIGHT
BEGIN:STANDARD
TZOFFSETFROM:-0400
TZOFFSETTO:-0500
TZNAME:EST
DTSTART:20261101T060000
END:STANDARD
END:VTIMEZONE
BEGIN:VEVENT
DTSTART;TZID=America/New_York:20251018T140000
DTEND;TZID=America/New_York:20251018T170000
DTSTAMP:20260424T001603
CREATED:20250727T205252Z
LAST-MODIFIED:20250917T030818Z
UID:1222-1760796000-1760806800@www.austria-boston.org
SUMMARY:Scholarship Recipient Michael Fisher
DESCRIPTION:Our 2025 Scholarship Award Winner\nwill perform a classical concert on his violin\nwith piano accompaniment. \nThe Program will include:\nBrahms – Hungarian Dances\, Beethoven – Sonata\,\nMusic of Gustaf Mahler and Fritz Kreisler.\nAll inspired or written in Vienna! \nDownload the Event Flyer
URL:https://www.austria-boston.org/event/scholarship-recipient-michael-fisher/
LOCATION:Weston Public Library\, 87 School St\, Weston\, MA\, 02493\, United States
END:VEVENT
END:VCALENDAR