BEGIN:VCALENDAR
VERSION:2.0
PRODID:-//Austro-American Association of Boston - ECPv6.15.20//NONSGML v1.0//EN
CALSCALE:GREGORIAN
METHOD:PUBLISH
X-ORIGINAL-URL:https://www.austria-boston.org
X-WR-CALDESC:Events for Austro-American Association of Boston
REFRESH-INTERVAL;VALUE=DURATION:PT1H
X-Robots-Tag:noindex
X-PUBLISHED-TTL:PT1H
BEGIN:VTIMEZONE
TZID:America/New_York
BEGIN:DAYLIGHT
TZOFFSETFROM:-0500
TZOFFSETTO:-0400
TZNAME:EDT
DTSTART:20230312T070000
END:DAYLIGHT
BEGIN:STANDARD
TZOFFSETFROM:-0400
TZOFFSETTO:-0500
TZNAME:EST
DTSTART:20231105T060000
END:STANDARD
BEGIN:DAYLIGHT
TZOFFSETFROM:-0500
TZOFFSETTO:-0400
TZNAME:EDT
DTSTART:20240310T070000
END:DAYLIGHT
BEGIN:STANDARD
TZOFFSETFROM:-0400
TZOFFSETTO:-0500
TZNAME:EST
DTSTART:20241103T060000
END:STANDARD
BEGIN:DAYLIGHT
TZOFFSETFROM:-0500
TZOFFSETTO:-0400
TZNAME:EDT
DTSTART:20250309T070000
END:DAYLIGHT
BEGIN:STANDARD
TZOFFSETFROM:-0400
TZOFFSETTO:-0500
TZNAME:EST
DTSTART:20251102T060000
END:STANDARD
END:VTIMEZONE
BEGIN:VEVENT
DTSTART;TZID=America/New_York:20241215T170000
DTEND;TZID=America/New_York:20241215T220000
DTSTAMP:20260424T162701
CREATED:20240728T113326Z
LAST-MODIFIED:20241120T015431Z
UID:1105-1734282000-1734300000@www.austria-boston.org
SUMMARY:Christmas Celebration
DESCRIPTION:This Holiday Celebration at the Christmas-decorated Wayside Inn in Sudbury\,\nwith wonderful music\, will be a highlight of the season!\nDownload the flyer with program details
URL:https://www.austria-boston.org/event/christmas-celebration-11/
LOCATION:The Wayside Inn\, 72 Boston Post Road (Route 20)\, Sudbury\, MA\, 01776\, United States
END:VEVENT
END:VCALENDAR