BEGIN:VCALENDAR
VERSION:2.0
PRODID:-//Austro-American Association of Boston - ECPv6.15.20//NONSGML v1.0//EN
CALSCALE:GREGORIAN
METHOD:PUBLISH
X-WR-CALNAME:Austro-American Association of Boston
X-ORIGINAL-URL:https://www.austria-boston.org
X-WR-CALDESC:Events for Austro-American Association of Boston
REFRESH-INTERVAL;VALUE=DURATION:PT1H
X-Robots-Tag:noindex
X-PUBLISHED-TTL:PT1H
BEGIN:VTIMEZONE
TZID:America/New_York
BEGIN:DAYLIGHT
TZOFFSETFROM:-0500
TZOFFSETTO:-0400
TZNAME:EDT
DTSTART:20230312T070000
END:DAYLIGHT
BEGIN:STANDARD
TZOFFSETFROM:-0400
TZOFFSETTO:-0500
TZNAME:EST
DTSTART:20231105T060000
END:STANDARD
BEGIN:DAYLIGHT
TZOFFSETFROM:-0500
TZOFFSETTO:-0400
TZNAME:EDT
DTSTART:20240310T070000
END:DAYLIGHT
BEGIN:STANDARD
TZOFFSETFROM:-0400
TZOFFSETTO:-0500
TZNAME:EST
DTSTART:20241103T060000
END:STANDARD
BEGIN:DAYLIGHT
TZOFFSETFROM:-0500
TZOFFSETTO:-0400
TZNAME:EDT
DTSTART:20250309T070000
END:DAYLIGHT
BEGIN:STANDARD
TZOFFSETFROM:-0400
TZOFFSETTO:-0500
TZNAME:EST
DTSTART:20251102T060000
END:STANDARD
END:VTIMEZONE
BEGIN:VEVENT
DTSTART;TZID=America/New_York:20241027T150000
DTEND;TZID=America/New_York:20241027T163000
DTSTAMP:20260424T192807
CREATED:20240728T113222Z
LAST-MODIFIED:20241007T020306Z
UID:1103-1730041200-1730046600@www.austria-boston.org
SUMMARY:Gräfin Mariza
DESCRIPTION:This is a delightful operetta by Emmerich Kalman is\nwith superb singing and excellent visual quality. This lecture presentation is\nby Erika Reitshamer\, who has done especially interesting events for us before.\nFlyer: Graefin Mariza Presentation Flyer.pdf
URL:https://www.austria-boston.org/event/grafin-mariza/
LOCATION:Weston Public Library\, 87 School St\, Weston\, MA\, 02493\, United States
END:VEVENT
END:VCALENDAR