BEGIN:VCALENDAR
VERSION:2.0
PRODID:-//Austro-American Association of Boston - ECPv6.15.20//NONSGML v1.0//EN
CALSCALE:GREGORIAN
METHOD:PUBLISH
X-ORIGINAL-URL:https://www.austria-boston.org
X-WR-CALDESC:Events for Austro-American Association of Boston
REFRESH-INTERVAL;VALUE=DURATION:PT1H
X-Robots-Tag:noindex
X-PUBLISHED-TTL:PT1H
BEGIN:VTIMEZONE
TZID:America/New_York
BEGIN:DAYLIGHT
TZOFFSETFROM:-0500
TZOFFSETTO:-0400
TZNAME:EDT
DTSTART:20230312T070000
END:DAYLIGHT
BEGIN:STANDARD
TZOFFSETFROM:-0400
TZOFFSETTO:-0500
TZNAME:EST
DTSTART:20231105T060000
END:STANDARD
BEGIN:DAYLIGHT
TZOFFSETFROM:-0500
TZOFFSETTO:-0400
TZNAME:EDT
DTSTART:20240310T070000
END:DAYLIGHT
BEGIN:STANDARD
TZOFFSETFROM:-0400
TZOFFSETTO:-0500
TZNAME:EST
DTSTART:20241103T060000
END:STANDARD
BEGIN:DAYLIGHT
TZOFFSETFROM:-0500
TZOFFSETTO:-0400
TZNAME:EDT
DTSTART:20250309T070000
END:DAYLIGHT
BEGIN:STANDARD
TZOFFSETFROM:-0400
TZOFFSETTO:-0500
TZNAME:EST
DTSTART:20251102T060000
END:STANDARD
END:VTIMEZONE
BEGIN:VEVENT
DTSTART;TZID=America/New_York:20240914T163000
DTEND;TZID=America/New_York:20240914T220000
DTSTAMP:20260424T210254
CREATED:20240728T113022Z
LAST-MODIFIED:20240813T154626Z
UID:1101-1726331400-1726351200@www.austria-boston.org
SUMMARY:Annual Heuriger
DESCRIPTION:Christian and Pamela Donner have graciously invited us to their home\nfor this event. Good music\, good food and being together.\nDownload the Flyer
URL:https://www.austria-boston.org/event/annual-heuriger-4/
LOCATION:The Donners\, 92 Green Street\, Medfield\, 02052
END:VEVENT
END:VCALENDAR