BEGIN:VCALENDAR
VERSION:2.0
PRODID:-//Austro-American Association of Boston - ECPv6.15.20//NONSGML v1.0//EN
CALSCALE:GREGORIAN
METHOD:PUBLISH
X-WR-CALNAME:Austro-American Association of Boston
X-ORIGINAL-URL:https://www.austria-boston.org
X-WR-CALDESC:Events for Austro-American Association of Boston
REFRESH-INTERVAL;VALUE=DURATION:PT1H
X-Robots-Tag:noindex
X-PUBLISHED-TTL:PT1H
BEGIN:VTIMEZONE
TZID:America/New_York
BEGIN:DAYLIGHT
TZOFFSETFROM:-0500
TZOFFSETTO:-0400
TZNAME:EDT
DTSTART:20020407T070000
END:DAYLIGHT
BEGIN:STANDARD
TZOFFSETFROM:-0400
TZOFFSETTO:-0500
TZNAME:EST
DTSTART:20021027T060000
END:STANDARD
BEGIN:DAYLIGHT
TZOFFSETFROM:-0500
TZOFFSETTO:-0400
TZNAME:EDT
DTSTART:20030406T070000
END:DAYLIGHT
BEGIN:STANDARD
TZOFFSETFROM:-0400
TZOFFSETTO:-0500
TZNAME:EST
DTSTART:20031026T060000
END:STANDARD
BEGIN:DAYLIGHT
TZOFFSETFROM:-0500
TZOFFSETTO:-0400
TZNAME:EDT
DTSTART:20040404T070000
END:DAYLIGHT
BEGIN:STANDARD
TZOFFSETFROM:-0400
TZOFFSETTO:-0500
TZNAME:EST
DTSTART:20041031T060000
END:STANDARD
END:VTIMEZONE
BEGIN:VEVENT
DTSTART;TZID=America/New_York:20031205T000000
DTEND;TZID=America/New_York:20031205T000000
DTSTAMP:20260425T084940
CREATED:20220216T014701Z
LAST-MODIFIED:20220216T014701Z
UID:394-1070582400-1070582400@www.austria-boston.org
SUMMARY:Stammtisch
DESCRIPTION:
URL:https://www.austria-boston.org/event/stammtisch-11/
CATEGORIES:A-AA Sponsored
END:VEVENT
BEGIN:VEVENT
DTSTART;TZID=America/New_York:20031101T000000
DTEND;TZID=America/New_York:20031101T000000
DTSTAMP:20260425T084940
CREATED:20220216T014701Z
LAST-MODIFIED:20220216T014701Z
UID:395-1067644800-1067644800@www.austria-boston.org
SUMMARY:"Sissy Ball"
DESCRIPTION:Flyer: A-AA2003-11-01-SissyBall.pdf
URL:https://www.austria-boston.org/event/sissy-ball/
CATEGORIES:A-AA Sponsored
END:VEVENT
BEGIN:VEVENT
DTSTART;TZID=America/New_York:20031026T000000
DTEND;TZID=America/New_York:20031026T000000
DTSTAMP:20260425T084940
CREATED:20220216T014715Z
LAST-MODIFIED:20220216T014715Z
UID:396-1067126400-1067126400@www.austria-boston.org
SUMMARY:Staatsfeiertag (Austrian National Holiday Celebration)
DESCRIPTION:Flyer: A-AA2003-10-26-AustrianNationalHoliday.pdf
URL:https://www.austria-boston.org/event/staatsfeiertag-austrian-national-holiday-celebration/
CATEGORIES:A-AA Sponsored
END:VEVENT
BEGIN:VEVENT
DTSTART;TZID=America/New_York:20030920T000000
DTEND;TZID=America/New_York:20030920T000000
DTSTAMP:20260425T084940
CREATED:20220216T014716Z
LAST-MODIFIED:20220216T014716Z
UID:397-1064016000-1064016000@www.austria-boston.org
SUMMARY:Austrian-American Day; Heurigen at Acker's
DESCRIPTION:Flyer: A-AA2003-09-20-AustrianAmericanDayandHeurigen.pdf
URL:https://www.austria-boston.org/event/austrian-american-day-heurigen-at-ackers/
CATEGORIES:A-AA Sponsored
END:VEVENT
BEGIN:VEVENT
DTSTART;TZID=America/New_York:20030905T000000
DTEND;TZID=America/New_York:20030905T000000
DTSTAMP:20260425T084940
CREATED:20220216T014716Z
LAST-MODIFIED:20220216T014716Z
UID:398-1062720000-1062720000@www.austria-boston.org
SUMMARY:Stammtisch
DESCRIPTION:
URL:https://www.austria-boston.org/event/stammtisch-12/
CATEGORIES:A-AA Sponsored
END:VEVENT
BEGIN:VEVENT
DTSTART;TZID=America/New_York:20030714T000000
DTEND;TZID=America/New_York:20030714T000000
DTSTAMP:20260425T084940
CREATED:20220216T014716Z
LAST-MODIFIED:20220216T014716Z
UID:399-1058140800-1058140800@www.austria-boston.org
SUMMARY:Newport Music Festival
DESCRIPTION:Flyer: A-AA2003-07-14-NewportMusicFestival(Flyer).pdf
URL:https://www.austria-boston.org/event/newport-music-festival-4/
CATEGORIES:A-AA Sponsored
END:VEVENT
BEGIN:VEVENT
DTSTART;TZID=America/New_York:20030621T000000
DTEND;TZID=America/New_York:20030621T000000
DTSTAMP:20260425T084940
CREATED:20220216T014716Z
LAST-MODIFIED:20220216T014716Z
UID:400-1056153600-1056153600@www.austria-boston.org
SUMMARY:Summer Solstice Cruise
DESCRIPTION:Flyer: A-AA2003-06-21-Sonnwendfeier.pdf
URL:https://www.austria-boston.org/event/summer-solstice-cruise/
CATEGORIES:A-AA Sponsored
END:VEVENT
BEGIN:VEVENT
DTSTART;TZID=America/New_York:20030607T000000
DTEND;TZID=America/New_York:20030607T000000
DTSTAMP:20260425T084940
CREATED:20220216T014822Z
LAST-MODIFIED:20220216T014822Z
UID:401-1054944000-1054944000@www.austria-boston.org
SUMMARY:Annual Dinner and Meeting
DESCRIPTION:Flyer: A-AA2003-06-07-AnnualDinnerandMeeting.pdf
URL:https://www.austria-boston.org/event/annual-dinner-and-meeting/
CATEGORIES:A-AA Sponsored
END:VEVENT
END:VCALENDAR