BEGIN:VCALENDAR
VERSION:2.0
PRODID:-//Austro-American Association of Boston - ECPv6.15.20//NONSGML v1.0//EN
CALSCALE:GREGORIAN
METHOD:PUBLISH
X-WR-CALNAME:Austro-American Association of Boston
X-ORIGINAL-URL:https://www.austria-boston.org
X-WR-CALDESC:Events for Austro-American Association of Boston
REFRESH-INTERVAL;VALUE=DURATION:PT1H
X-Robots-Tag:noindex
X-PUBLISHED-TTL:PT1H
BEGIN:VTIMEZONE
TZID:America/New_York
BEGIN:DAYLIGHT
TZOFFSETFROM:-0500
TZOFFSETTO:-0400
TZNAME:EDT
DTSTART:20030406T070000
END:DAYLIGHT
BEGIN:STANDARD
TZOFFSETFROM:-0400
TZOFFSETTO:-0500
TZNAME:EST
DTSTART:20031026T060000
END:STANDARD
BEGIN:DAYLIGHT
TZOFFSETFROM:-0500
TZOFFSETTO:-0400
TZNAME:EDT
DTSTART:20040404T070000
END:DAYLIGHT
BEGIN:STANDARD
TZOFFSETFROM:-0400
TZOFFSETTO:-0500
TZNAME:EST
DTSTART:20041031T060000
END:STANDARD
BEGIN:DAYLIGHT
TZOFFSETFROM:-0500
TZOFFSETTO:-0400
TZNAME:EDT
DTSTART:20050403T070000
END:DAYLIGHT
BEGIN:STANDARD
TZOFFSETFROM:-0400
TZOFFSETTO:-0500
TZNAME:EST
DTSTART:20051030T060000
END:STANDARD
BEGIN:DAYLIGHT
TZOFFSETFROM:-0500
TZOFFSETTO:-0400
TZNAME:EDT
DTSTART:20060402T070000
END:DAYLIGHT
BEGIN:STANDARD
TZOFFSETFROM:-0400
TZOFFSETTO:-0500
TZNAME:EST
DTSTART:20061029T060000
END:STANDARD
BEGIN:DAYLIGHT
TZOFFSETFROM:-0500
TZOFFSETTO:-0400
TZNAME:EDT
DTSTART:20070311T070000
END:DAYLIGHT
BEGIN:STANDARD
TZOFFSETFROM:-0400
TZOFFSETTO:-0500
TZNAME:EST
DTSTART:20071104T060000
END:STANDARD
END:VTIMEZONE
BEGIN:VEVENT
DTSTART;TZID=America/New_York:20060317T000000
DTEND;TZID=America/New_York:20060317T000000
DTSTAMP:20260425T083441
CREATED:20220216T014230Z
LAST-MODIFIED:20220216T014230Z
UID:360-1142553600-1142553600@www.austria-boston.org
SUMMARY:Vienna Mozart Orchestra at Symphony Hall
DESCRIPTION:
URL:https://www.austria-boston.org/event/vienna-mozart-orchestra-at-symphony-hall/
CATEGORIES:A-AA Sponsored
END:VEVENT
BEGIN:VEVENT
DTSTART;TZID=America/New_York:20060303T000000
DTEND;TZID=America/New_York:20060303T000000
DTSTAMP:20260425T083441
CREATED:20220216T014320Z
LAST-MODIFIED:20220216T014320Z
UID:361-1141344000-1141344000@www.austria-boston.org
SUMMARY:Stammtisch
DESCRIPTION:
URL:https://www.austria-boston.org/event/stammtisch-5/
CATEGORIES:A-AA Sponsored
END:VEVENT
BEGIN:VEVENT
DTSTART;TZID=America/New_York:20060225T000000
DTEND;TZID=America/New_York:20060225T000000
DTSTAMP:20260425T083441
CREATED:20220216T014321Z
LAST-MODIFIED:20220216T014321Z
UID:362-1140825600-1140825600@www.austria-boston.org
SUMMARY:Movie Night (Hinterholz 8) and Children's Program (Kasperl)
DESCRIPTION:Flyer: A-AA2006-02-25-MovieNight.pdf
URL:https://www.austria-boston.org/event/movie-night-hinterholz-8-and-childrens-program-kasperl/
CATEGORIES:A-AA Sponsored
END:VEVENT
BEGIN:VEVENT
DTSTART;TZID=America/New_York:20060213T000000
DTEND;TZID=America/New_York:20060213T000000
DTSTAMP:20260425T083441
CREATED:20220216T014321Z
LAST-MODIFIED:20220216T014321Z
UID:363-1139788800-1139788800@www.austria-boston.org
SUMMARY:Stammtisch
DESCRIPTION:
URL:https://www.austria-boston.org/event/stammtisch-6/
CATEGORIES:A-AA Sponsored
END:VEVENT
BEGIN:VEVENT
DTSTART;TZID=America/New_York:20051217T000000
DTEND;TZID=America/New_York:20051217T000000
DTSTAMP:20260425T083441
CREATED:20220216T014321Z
LAST-MODIFIED:20220216T014321Z
UID:364-1134777600-1134777600@www.austria-boston.org
SUMMARY:Christmas Celebration
DESCRIPTION:Flyer: A-AA2005-12-17-ChristmasCelebration.pdf
URL:https://www.austria-boston.org/event/christmas-celebration-8/
CATEGORIES:A-AA Sponsored
END:VEVENT
BEGIN:VEVENT
DTSTART;TZID=America/New_York:20051119T000000
DTEND;TZID=America/New_York:20051119T000000
DTSTAMP:20260425T083441
CREATED:20220216T014321Z
LAST-MODIFIED:20220216T014321Z
UID:365-1132358400-1132358400@www.austria-boston.org
SUMMARY:Wine Tasting Party
DESCRIPTION:Flyer: A-AA2005-11-19-WineTastingParty.pdf
URL:https://www.austria-boston.org/event/wine-tasting-party/
CATEGORIES:A-AA Sponsored
END:VEVENT
BEGIN:VEVENT
DTSTART;TZID=America/New_York:20051022T000000
DTEND;TZID=America/New_York:20051022T000000
DTSTAMP:20260425T083441
CREATED:20220216T014335Z
LAST-MODIFIED:20220216T014335Z
UID:366-1129939200-1129939200@www.austria-boston.org
SUMMARY:Austrian National Holiday
DESCRIPTION:Flyer: A-AA2005-10-09-Staatsfeiertag.pdf
URL:https://www.austria-boston.org/event/austrian-national-holiday-5/
CATEGORIES:A-AA Sponsored
END:VEVENT
BEGIN:VEVENT
DTSTART;TZID=America/New_York:20050924T000000
DTEND;TZID=America/New_York:20050924T000000
DTSTAMP:20260425T083441
CREATED:20220216T014336Z
LAST-MODIFIED:20220216T014336Z
UID:367-1127520000-1127520000@www.austria-boston.org
SUMMARY:Annual Austrian Heuriger and Austrian American Day
DESCRIPTION:Flyer: A-AA2005-09-24-AnnualHeurigenAndA-ADay.pdf
URL:https://www.austria-boston.org/event/annual-austrian-heuriger-and-austrian-american-day/
CATEGORIES:A-AA Sponsored
END:VEVENT
BEGIN:VEVENT
DTSTART;TZID=America/New_York:20050918T000000
DTEND;TZID=America/New_York:20050918T000000
DTSTAMP:20260425T083441
CREATED:20220216T014336Z
LAST-MODIFIED:20220216T014336Z
UID:368-1127001600-1127001600@www.austria-boston.org
SUMMARY:Ruth Harcovitz at the Wellesley Free Library
DESCRIPTION:harcovitz-2005-09-18.jpg
URL:https://www.austria-boston.org/event/ruth-harcovitz-at-the-wellesley-free-library/
CATEGORIES:A-AA Sponsored
END:VEVENT
BEGIN:VEVENT
DTSTART;TZID=America/New_York:20050721T000000
DTEND;TZID=America/New_York:20050721T000000
DTSTAMP:20260425T083441
CREATED:20220216T014336Z
LAST-MODIFIED:20220216T014336Z
UID:369-1121904000-1121904000@www.austria-boston.org
SUMMARY:Newport Music Festival Concert: Choice Austrian Fare
DESCRIPTION:Flyer: A-AA-2005-07-21-NewportConcert.pdf
URL:https://www.austria-boston.org/event/newport-music-festival-concert-choice-austrian-fare/
CATEGORIES:A-AA Sponsored
END:VEVENT
BEGIN:VEVENT
DTSTART;TZID=America/New_York:20050603T000000
DTEND;TZID=America/New_York:20050603T000000
DTSTAMP:20260425T083441
CREATED:20220216T014336Z
LAST-MODIFIED:20220216T014336Z
UID:370-1117756800-1117756800@www.austria-boston.org
SUMMARY:Annual Dinner and A-AA Board Election
DESCRIPTION:Flyer: A-AA2005-06-04AnnualDinnerAndA-AAElection.pdf
URL:https://www.austria-boston.org/event/annual-dinner-and-a-aa-board-election/
CATEGORIES:A-AA Sponsored
END:VEVENT
BEGIN:VEVENT
DTSTART;TZID=America/New_York:20050520T000000
DTEND;TZID=America/New_York:20050520T000000
DTSTAMP:20260425T083441
CREATED:20220216T014351Z
LAST-MODIFIED:20220216T014351Z
UID:371-1116547200-1116547200@www.austria-boston.org
SUMMARY:Austria Celebrates in Ottawa (entire weekend)
DESCRIPTION:
URL:https://www.austria-boston.org/event/austria-celebrates-in-ottawa-entire-weekend/
CATEGORIES:A-AA Sponsored
END:VEVENT
BEGIN:VEVENT
DTSTART;TZID=America/New_York:20050506T000000
DTEND;TZID=America/New_York:20050506T000000
DTSTAMP:20260425T083441
CREATED:20220216T014351Z
LAST-MODIFIED:20220216T014351Z
UID:372-1115337600-1115337600@www.austria-boston.org
SUMMARY:Stammtisch
DESCRIPTION:
URL:https://www.austria-boston.org/event/stammtisch-7/
CATEGORIES:A-AA Sponsored
END:VEVENT
BEGIN:VEVENT
DTSTART;TZID=America/New_York:20050430T000000
DTEND;TZID=America/New_York:20050430T000000
DTSTAMP:20260425T083441
CREATED:20220216T014351Z
LAST-MODIFIED:20220216T014351Z
UID:373-1114819200-1114819200@www.austria-boston.org
SUMMARY:Mozart - in word and music
DESCRIPTION:Flyer: A-AA2005-04-30-DrSlater.pdf
URL:https://www.austria-boston.org/event/mozart-in-word-and-music/
CATEGORIES:A-AA Sponsored
END:VEVENT
BEGIN:VEVENT
DTSTART;TZID=America/New_York:20050401T000000
DTEND;TZID=America/New_York:20050401T000000
DTSTAMP:20260425T083441
CREATED:20220216T014351Z
LAST-MODIFIED:20220216T014351Z
UID:374-1112313600-1112313600@www.austria-boston.org
SUMMARY:Stammtisch
DESCRIPTION:
URL:https://www.austria-boston.org/event/stammtisch-8/
CATEGORIES:A-AA Sponsored
END:VEVENT
BEGIN:VEVENT
DTSTART;TZID=America/New_York:20050326T000000
DTEND;TZID=America/New_York:20050326T000000
DTSTAMP:20260425T083441
CREATED:20220216T014352Z
LAST-MODIFIED:20220216T014352Z
UID:375-1111795200-1111795200@www.austria-boston.org
SUMMARY:Plauderstunde mit Gast aus Wien
DESCRIPTION:
URL:https://www.austria-boston.org/event/plauderstunde-mit-gast-aus-wien/
CATEGORIES:A-AA Sponsored
END:VEVENT
BEGIN:VEVENT
DTSTART;TZID=America/New_York:20050319T000000
DTEND;TZID=America/New_York:20050319T000000
DTSTAMP:20260425T083441
CREATED:20220216T014410Z
LAST-MODIFIED:20220216T014410Z
UID:376-1111190400-1111190400@www.austria-boston.org
SUMMARY:Strauss Ball at the Boylston Schulverein
DESCRIPTION:Flyer: A-AA-2005-03-19-StraussBall.pdf
URL:https://www.austria-boston.org/event/strauss-ball-at-the-boylston-schulverein-5/
CATEGORIES:A-AA Sponsored
END:VEVENT
BEGIN:VEVENT
DTSTART;TZID=America/New_York:20050304T000000
DTEND;TZID=America/New_York:20050304T000000
DTSTAMP:20260425T083441
CREATED:20220216T014410Z
LAST-MODIFIED:20220216T014410Z
UID:377-1109894400-1109894400@www.austria-boston.org
SUMMARY:Stammtisch
DESCRIPTION:
URL:https://www.austria-boston.org/event/stammtisch-9/
CATEGORIES:A-AA Sponsored
END:VEVENT
BEGIN:VEVENT
DTSTART;TZID=America/New_York:20050204T000000
DTEND;TZID=America/New_York:20050204T000000
DTSTAMP:20260425T083441
CREATED:20220216T014410Z
LAST-MODIFIED:20220216T014410Z
UID:378-1107475200-1107475200@www.austria-boston.org
SUMMARY:Stammtisch
DESCRIPTION:
URL:https://www.austria-boston.org/event/stammtisch-10/
CATEGORIES:A-AA Sponsored
END:VEVENT
BEGIN:VEVENT
DTSTART;TZID=America/New_York:20050102T000000
DTEND;TZID=America/New_York:20050102T000000
DTSTAMP:20260425T083441
CREATED:20220216T014410Z
LAST-MODIFIED:20220216T014410Z
UID:379-1104624000-1104624000@www.austria-boston.org
SUMMARY:Salute to Vienna - New Year's Concert
DESCRIPTION:Flyer: A-AA2005-01-02SaluteToVienna.pdf
URL:https://www.austria-boston.org/event/salute-to-vienna-new-years-concert-3/
CATEGORIES:A-AA Sponsored
END:VEVENT
BEGIN:VEVENT
DTSTART;TZID=America/New_York:20041218T000000
DTEND;TZID=America/New_York:20041218T000000
DTSTAMP:20260425T083441
CREATED:20220216T014411Z
LAST-MODIFIED:20220216T014411Z
UID:380-1103328000-1103328000@www.austria-boston.org
SUMMARY:Weihnachtsfest - Christmas Celebration
DESCRIPTION:Flyer: A-AA2004-12-18-ChristmasCelebration.pdf
URL:https://www.austria-boston.org/event/weihnachtsfest-christmas-celebration/
CATEGORIES:A-AA Sponsored
END:VEVENT
BEGIN:VEVENT
DTSTART;TZID=America/New_York:20041023T000000
DTEND;TZID=America/New_York:20041023T000000
DTSTAMP:20260425T083441
CREATED:20220216T014425Z
LAST-MODIFIED:20220216T014425Z
UID:381-1098489600-1098489600@www.austria-boston.org
SUMMARY:Austrian National Holiday (Staatsfeiertag): 4:00 pm\, at 265 Otis Street\, West Newton\, MA. There will be a presentation by Prof. Thomas Hansen\, and of course an elaborate buffet and Austrian wine.
DESCRIPTION:Flyer: A-AA2004-10-16-Staatsfeiertag.pdf
URL:https://www.austria-boston.org/event/austrian-national-holiday-staatsfeiertag-400-pm-at-265-otis-street-west-newton-ma-there-will-be-a-presentation-by-prof-thomas-hansen-and-of-course-an-elaborate-buffet-and-austrian-wine/
CATEGORIES:A-AA Sponsored
END:VEVENT
BEGIN:VEVENT
DTSTART;TZID=America/New_York:20041001T000000
DTEND;TZID=America/New_York:20041001T000000
DTSTAMP:20260425T083441
CREATED:20220216T014425Z
LAST-MODIFIED:20220216T014425Z
UID:382-1096588800-1096588800@www.austria-boston.org
SUMMARY:Stammtisch 7:00 pm at Traude and David Acker's home\, 265 Otis Street\, West Newton\, MA - Tel 617-527-7335. Please make your reservation.
DESCRIPTION:
URL:https://www.austria-boston.org/event/stammtisch-700-pm-at-traude-and-david-ackers-home-265-otis-street-west-newton-ma-tel-617-527-7335-please-make-your-reservation/
CATEGORIES:A-AA Sponsored
END:VEVENT
BEGIN:VEVENT
DTSTART;TZID=America/New_York:20040930T000000
DTEND;TZID=America/New_York:20040930T000000
DTSTAMP:20260425T083441
CREATED:20220216T014426Z
LAST-MODIFIED:20220216T014426Z
UID:383-1096502400-1096502400@www.austria-boston.org
SUMMARY:Vienna – Gateway to Business Opportunities in the Expanded European Union (Four Seasons Hotel)
DESCRIPTION:
URL:https://www.austria-boston.org/event/vienna-gateway-to-business-opportunities-in-the-expanded-european-union-four-seasons-hotel/
CATEGORIES:A-AA Sponsored
END:VEVENT
BEGIN:VEVENT
DTSTART;TZID=America/New_York:20040926T000000
DTEND;TZID=America/New_York:20040926T000000
DTSTAMP:20260425T083441
CREATED:20220216T014426Z
LAST-MODIFIED:20220216T014426Z
UID:384-1096156800-1096156800@www.austria-boston.org
SUMMARY:Oktoberfest at the Inn at Danbury in Danbury\, NH
DESCRIPTION:
URL:https://www.austria-boston.org/event/oktoberfest-at-the-inn-at-danbury-in-danbury-nh/
CATEGORIES:External Events
END:VEVENT
BEGIN:VEVENT
DTSTART;TZID=America/New_York:20040918T000000
DTEND;TZID=America/New_York:20040918T000000
DTSTAMP:20260425T083441
CREATED:20220216T014426Z
LAST-MODIFIED:20220216T014426Z
UID:385-1095465600-1095465600@www.austria-boston.org
SUMMARY:Heuriger on Austrian-American Day
DESCRIPTION:Flyer: A-AA2004-09-18-HeurigenandA-ADay.pdf
URL:https://www.austria-boston.org/event/heuriger-on-austrian-american-day/
CATEGORIES:A-AA Sponsored
END:VEVENT
BEGIN:VEVENT
DTSTART;TZID=America/New_York:20040725T000000
DTEND;TZID=America/New_York:20040725T000000
DTSTAMP:20260425T083441
CREATED:20220216T014625Z
LAST-MODIFIED:20220216T014625Z
UID:386-1090713600-1090713600@www.austria-boston.org
SUMMARY:The Newport Music Festival
DESCRIPTION:
URL:https://www.austria-boston.org/event/the-newport-music-festival/
CATEGORIES:A-AA Sponsored
END:VEVENT
BEGIN:VEVENT
DTSTART;TZID=America/New_York:20040620T000000
DTEND;TZID=America/New_York:20040620T000000
DTSTAMP:20260425T083441
CREATED:20220216T014625Z
LAST-MODIFIED:20220216T014625Z
UID:387-1087689600-1087689600@www.austria-boston.org
SUMMARY:Concert in Rockport
DESCRIPTION:Flyer: A-AA-2004-05-20-ConcertInRockport.pdf
URL:https://www.austria-boston.org/event/concert-in-rockport/
CATEGORIES:A-AA Sponsored
END:VEVENT
BEGIN:VEVENT
DTSTART;TZID=America/New_York:20040514T000000
DTEND;TZID=America/New_York:20040514T000000
DTSTAMP:20260425T083441
CREATED:20220216T014625Z
LAST-MODIFIED:20220216T014625Z
UID:388-1084492800-1084492800@www.austria-boston.org
SUMMARY:60 Year Celebration
DESCRIPTION:
URL:https://www.austria-boston.org/event/60-year-celebration/
CATEGORIES:A-AA Sponsored
END:VEVENT
BEGIN:VEVENT
DTSTART;TZID=America/New_York:20040403T000000
DTEND;TZID=America/New_York:20040403T000000
DTSTAMP:20260425T083441
CREATED:20220216T014625Z
LAST-MODIFIED:20220216T014625Z
UID:389-1080950400-1080950400@www.austria-boston.org
SUMMARY:Spring Concert
DESCRIPTION:Flyer: A-AA2004-04-03-SpringConcert.pdf
URL:https://www.austria-boston.org/event/spring-concert/
CATEGORIES:A-AA Sponsored
END:VEVENT
END:VCALENDAR