BEGIN:VCALENDAR
VERSION:2.0
PRODID:-//Austro-American Association of Boston - ECPv6.15.20//NONSGML v1.0//EN
CALSCALE:GREGORIAN
METHOD:PUBLISH
X-WR-CALNAME:Austro-American Association of Boston
X-ORIGINAL-URL:https://www.austria-boston.org
X-WR-CALDESC:Events for Austro-American Association of Boston
REFRESH-INTERVAL;VALUE=DURATION:PT1H
X-Robots-Tag:noindex
X-PUBLISHED-TTL:PT1H
BEGIN:VTIMEZONE
TZID:America/New_York
BEGIN:DAYLIGHT
TZOFFSETFROM:-0500
TZOFFSETTO:-0400
TZNAME:EDT
DTSTART:20100314T070000
END:DAYLIGHT
BEGIN:STANDARD
TZOFFSETFROM:-0400
TZOFFSETTO:-0500
TZNAME:EST
DTSTART:20101107T060000
END:STANDARD
BEGIN:DAYLIGHT
TZOFFSETFROM:-0500
TZOFFSETTO:-0400
TZNAME:EDT
DTSTART:20110313T070000
END:DAYLIGHT
BEGIN:STANDARD
TZOFFSETFROM:-0400
TZOFFSETTO:-0500
TZNAME:EST
DTSTART:20111106T060000
END:STANDARD
BEGIN:DAYLIGHT
TZOFFSETFROM:-0500
TZOFFSETTO:-0400
TZNAME:EDT
DTSTART:20120311T070000
END:DAYLIGHT
BEGIN:STANDARD
TZOFFSETFROM:-0400
TZOFFSETTO:-0500
TZNAME:EST
DTSTART:20121104T060000
END:STANDARD
BEGIN:DAYLIGHT
TZOFFSETFROM:-0500
TZOFFSETTO:-0400
TZNAME:EDT
DTSTART:20130310T070000
END:DAYLIGHT
BEGIN:STANDARD
TZOFFSETFROM:-0400
TZOFFSETTO:-0500
TZNAME:EST
DTSTART:20131103T060000
END:STANDARD
BEGIN:DAYLIGHT
TZOFFSETFROM:-0500
TZOFFSETTO:-0400
TZNAME:EDT
DTSTART:20140309T070000
END:DAYLIGHT
BEGIN:STANDARD
TZOFFSETFROM:-0400
TZOFFSETTO:-0500
TZNAME:EST
DTSTART:20141102T060000
END:STANDARD
END:VTIMEZONE
BEGIN:VEVENT
DTSTART;TZID=America/New_York:20130629T000000
DTEND;TZID=America/New_York:20130629T000000
DTSTAMP:20260424T120048
CREATED:20220216T011656Z
LAST-MODIFIED:20220216T011656Z
UID:257-1372464000-1372464000@www.austria-boston.org
SUMMARY:A-AA Annual Dinner at the Wayside Inn
DESCRIPTION:Flyer: A-AA-2013-06-29-AnnualDinnerAndElection.pdf
URL:https://www.austria-boston.org/event/a-aa-annual-dinner-at-the-wayside-inn/
CATEGORIES:A-AA Sponsored
END:VEVENT
BEGIN:VEVENT
DTSTART;TZID=America/New_York:20130608T000000
DTEND;TZID=America/New_York:20130608T000000
DTSTAMP:20260424T120048
CREATED:20220216T011656Z
LAST-MODIFIED:20220216T011656Z
UID:258-1370649600-1370649600@www.austria-boston.org
SUMMARY:Stammtisch at Acker's\, 5 pm
DESCRIPTION:
URL:https://www.austria-boston.org/event/stammtisch-at-ackers-5-pm/
CATEGORIES:A-AA Sponsored
END:VEVENT
BEGIN:VEVENT
DTSTART;TZID=America/New_York:20130518T000000
DTEND;TZID=America/New_York:20130518T000000
DTSTAMP:20260424T120048
CREATED:20220216T011656Z
LAST-MODIFIED:20220216T011656Z
UID:259-1368835200-1368835200@www.austria-boston.org
SUMMARY:Scholarship Recipient Recital by Franziska Huhn\, Harpist (Longy School)
DESCRIPTION:Flyer: A-AA-2013-05-18-ScholarshipFranziskaHuhn.pdf
URL:https://www.austria-boston.org/event/scholarship-recipient-recital-by-franziska-huhn-harpist-longy-school/
CATEGORIES:A-AA Sponsored
END:VEVENT
BEGIN:VEVENT
DTSTART;TZID=America/New_York:20130407T000000
DTEND;TZID=America/New_York:20130407T000000
DTSTAMP:20260424T120048
CREATED:20220216T011657Z
LAST-MODIFIED:20220216T011657Z
UID:260-1365292800-1365292800@www.austria-boston.org
SUMMARY:A Musical Journey from Vienna to America\, Rockport\, MA
DESCRIPTION:Flyer: A-AA2013-04-07-RockportConcert.pdf
URL:https://www.austria-boston.org/event/a-musical-journey-from-vienna-to-america-rockport-ma/
CATEGORIES:A-AA Sponsored
END:VEVENT
BEGIN:VEVENT
DTSTART;TZID=America/New_York:20130309T000000
DTEND;TZID=America/New_York:20130309T000000
DTSTAMP:20260424T120048
CREATED:20220216T011856Z
LAST-MODIFIED:20220216T011856Z
UID:261-1362787200-1362787200@www.austria-boston.org
SUMMARY:Strauss Ball at the Boylston Schulverein\, 5pm
DESCRIPTION:Flyer: A-AA2013-03-09-StraussBall.pdf
URL:https://www.austria-boston.org/event/strauss-ball-at-the-boylston-schulverein-5pm/
CATEGORIES:A-AA Sponsored
END:VEVENT
BEGIN:VEVENT
DTSTART;TZID=America/New_York:20130302T000000
DTEND;TZID=America/New_York:20130302T000000
DTSTAMP:20260424T120048
CREATED:20220216T011856Z
LAST-MODIFIED:20220216T011856Z
UID:262-1362182400-1362182400@www.austria-boston.org
SUMMARY:RESCHEDULED FROM 2/23: Austrian Movie Night at the Donners\, 5pm
DESCRIPTION:Flyer: A-AA2013-02-23-MovieNight.pdf
URL:https://www.austria-boston.org/event/rescheduled-from-2-23-austrian-movie-night-at-the-donners-5pm/
CATEGORIES:A-AA Sponsored
END:VEVENT
BEGIN:VEVENT
DTSTART;TZID=America/New_York:20130217T000000
DTEND;TZID=America/New_York:20130217T000000
DTSTAMP:20260424T120048
CREATED:20220216T011856Z
LAST-MODIFIED:20220216T011856Z
UID:263-1361059200-1361059200@www.austria-boston.org
SUMMARY:AUSTRIAN AMBASSADORS\, Concert in Nashua\, NH (free admission)
DESCRIPTION:
URL:https://www.austria-boston.org/event/austrian-ambassadors-concert-in-nashua-nh-free-admission/
CATEGORIES:External Events
END:VEVENT
BEGIN:VEVENT
DTSTART;TZID=America/New_York:20121215T000000
DTEND;TZID=America/New_York:20121215T000000
DTSTAMP:20260424T120048
CREATED:20220216T011856Z
LAST-MODIFIED:20220216T011856Z
UID:264-1355529600-1355529600@www.austria-boston.org
SUMMARY:Christmas Celebration
DESCRIPTION:Flyer: A-AA2012-12-15-ChristmasCelebrationFlyer.pdf
URL:https://www.austria-boston.org/event/christmas-celebration-4/
CATEGORIES:A-AA Sponsored
END:VEVENT
BEGIN:VEVENT
DTSTART;TZID=America/New_York:20121117T000000
DTEND;TZID=America/New_York:20121117T000000
DTSTAMP:20260424T120048
CREATED:20220216T011857Z
LAST-MODIFIED:20220216T011857Z
UID:265-1353110400-1353110400@www.austria-boston.org
SUMMARY:Stammtisch at Acker's
DESCRIPTION:
URL:https://www.austria-boston.org/event/stammtisch-at-ackers/
CATEGORIES:A-AA Sponsored
END:VEVENT
BEGIN:VEVENT
DTSTART;TZID=America/New_York:20121027T000000
DTEND;TZID=America/New_York:20121027T000000
DTSTAMP:20260424T120048
CREATED:20220216T012238Z
LAST-MODIFIED:20220216T012238Z
UID:266-1351296000-1351296000@www.austria-boston.org
SUMMARY:Austrian National Holiday
DESCRIPTION:Flyer: A-AA-2012-10-27-Staatsfeiertag.pdf
URL:https://www.austria-boston.org/event/austrian-national-holiday-2/
CATEGORIES:A-AA Sponsored
END:VEVENT
BEGIN:VEVENT
DTSTART;TZID=America/New_York:20120922T000000
DTEND;TZID=America/New_York:20120922T000000
DTSTAMP:20260424T120048
CREATED:20220216T012238Z
LAST-MODIFIED:20220216T012238Z
UID:267-1348272000-1348272000@www.austria-boston.org
SUMMARY:Annual Heurigen and Austrian-American Day Celebration at Acker's
DESCRIPTION:Flyer: A-AA-2012-09-22-Heurigen.pdf
URL:https://www.austria-boston.org/event/annual-heurigen-and-austrian-american-day-celebration-at-ackers-2/
CATEGORIES:A-AA Sponsored
END:VEVENT
BEGIN:VEVENT
DTSTART;TZID=America/New_York:20120916T000000
DTEND;TZID=America/New_York:20120916T000000
DTSTAMP:20260424T120048
CREATED:20220216T012238Z
LAST-MODIFIED:20220216T012238Z
UID:268-1347753600-1347753600@www.austria-boston.org
SUMMARY:Presentation of Austrian Wines (Goethe Institute)
DESCRIPTION:
URL:https://www.austria-boston.org/event/presentation-of-austrian-wines-goethe-institute/
CATEGORIES:A-AA Sponsored
END:VEVENT
BEGIN:VEVENT
DTSTART;TZID=America/New_York:20120725T000000
DTEND;TZID=America/New_York:20120725T000000
DTSTAMP:20260424T120048
CREATED:20220216T012238Z
LAST-MODIFIED:20220216T012238Z
UID:269-1343174400-1343174400@www.austria-boston.org
SUMMARY:Newport Music Festival
DESCRIPTION:Flyer: A-AA-2012-07-25-NewportMusicFestival.pdf
URL:https://www.austria-boston.org/event/newport-music-festival/
CATEGORIES:A-AA Sponsored
END:VEVENT
BEGIN:VEVENT
DTSTART;TZID=America/New_York:20120602T000000
DTEND;TZID=America/New_York:20120602T000000
DTSTAMP:20260424T120048
CREATED:20220216T012239Z
LAST-MODIFIED:20220216T012239Z
UID:270-1338595200-1338595200@www.austria-boston.org
SUMMARY:Annual Dinner
DESCRIPTION:Flyer: A-AA-2012-06-02AnnualDinner-WaysideInn.pdf
URL:https://www.austria-boston.org/event/annual-dinner/
CATEGORIES:A-AA Sponsored
END:VEVENT
BEGIN:VEVENT
DTSTART;TZID=America/New_York:20120505T000000
DTEND;TZID=America/New_York:20120505T000000
DTSTAMP:20260424T120048
CREATED:20220216T012433Z
LAST-MODIFIED:20220216T012433Z
UID:271-1336176000-1336176000@www.austria-boston.org
SUMMARY:A presentation by our scholarship recipient\, Stephen Walsh: The Austro-Hungarian Northpole Expedition
DESCRIPTION:Flyer: A-AA2012-05-04-ScholarshipStephenWalsh.pdf
URL:https://www.austria-boston.org/event/a-presentation-by-our-scholarship-recipient-stephen-walsh-the-austro-hungarian-northpole-expedition/
CATEGORIES:A-AA Sponsored
END:VEVENT
BEGIN:VEVENT
DTSTART;TZID=America/New_York:20120414T000000
DTEND;TZID=America/New_York:20120414T000000
DTSTAMP:20260424T120048
CREATED:20220216T012434Z
LAST-MODIFIED:20220216T012434Z
UID:272-1334361600-1334361600@www.austria-boston.org
SUMMARY:Strauss Ball at the Boylston Schul-Verein in Walpole (5pm)
DESCRIPTION:Flyer: A-AA2012-04-14StraussBall.pdf
URL:https://www.austria-boston.org/event/strauss-ball-at-the-boylston-schul-verein-in-walpole-5pm/
CATEGORIES:A-AA Sponsored
END:VEVENT
BEGIN:VEVENT
DTSTART;TZID=America/New_York:20120331T000000
DTEND;TZID=America/New_York:20120331T000000
DTSTAMP:20260424T120048
CREATED:20220216T012434Z
LAST-MODIFIED:20220216T012434Z
UID:273-1333152000-1333152000@www.austria-boston.org
SUMMARY:Scholarship Evening with Michael Sakir
DESCRIPTION:Flyer: A-AA2012-03-31Scholarship-MichaelSakir.pdf
URL:https://www.austria-boston.org/event/scholarship-evening-with-michael-sakir/
CATEGORIES:A-AA Sponsored
END:VEVENT
BEGIN:VEVENT
DTSTART;TZID=America/New_York:20120317T000000
DTEND;TZID=America/New_York:20120317T000000
DTSTAMP:20260424T120048
CREATED:20220216T012434Z
LAST-MODIFIED:20220216T012434Z
UID:274-1331942400-1331942400@www.austria-boston.org
SUMMARY:Audiovisual tribute to Dame Elisabeth Schwarzkopf
DESCRIPTION:Flyer: A-AA2012-03-17ElisabethSchwarzkopf-ErikaReitshamer.pdf
URL:https://www.austria-boston.org/event/audiovisual-tribute-to-dame-elisabeth-schwarzkopf/
CATEGORIES:A-AA Sponsored
END:VEVENT
BEGIN:VEVENT
DTSTART;TZID=America/New_York:20120212T000000
DTEND;TZID=America/New_York:20120212T000000
DTSTAMP:20260424T120048
CREATED:20220216T012434Z
LAST-MODIFIED:20220216T012434Z
UID:275-1329004800-1329004800@www.austria-boston.org
SUMMARY:The movie "Im weißen Rößl" at the Goethe Institute
DESCRIPTION:
URL:https://www.austria-boston.org/event/the-movie-im-weisen-rosl-at-the-goethe-institute/
CATEGORIES:A-AA Sponsored
END:VEVENT
BEGIN:VEVENT
DTSTART;TZID=America/New_York:20120204T000000
DTEND;TZID=America/New_York:20120204T000000
DTSTAMP:20260424T120048
CREATED:20220216T012448Z
LAST-MODIFIED:20220216T012448Z
UID:276-1328313600-1328313600@www.austria-boston.org
SUMMARY:Special Austrian Movie Night at the Donners\, 5:00 pm
DESCRIPTION:Flyer: A-AA2012-02-04-MovieNight.pdf
URL:https://www.austria-boston.org/event/special-austrian-movie-night-at-the-donners-500-pm/
CATEGORIES:A-AA Sponsored
END:VEVENT
BEGIN:VEVENT
DTSTART;TZID=America/New_York:20111217T000000
DTEND;TZID=America/New_York:20111217T000000
DTSTAMP:20260424T120048
CREATED:20220216T012448Z
LAST-MODIFIED:20220216T012448Z
UID:277-1324080000-1324080000@www.austria-boston.org
SUMMARY:Christmas Celebration
DESCRIPTION:Flyer: A-AA-2011-12-17-ChristmasFlyer.pdf
URL:https://www.austria-boston.org/event/christmas-celebration-5/
CATEGORIES:A-AA Sponsored
END:VEVENT
BEGIN:VEVENT
DTSTART;TZID=America/New_York:20111119T000000
DTEND;TZID=America/New_York:20111119T000000
DTSTAMP:20260424T120048
CREATED:20220216T012448Z
LAST-MODIFIED:20220216T012448Z
UID:278-1321660800-1321660800@www.austria-boston.org
SUMMARY:Stammtisch at Ackers
DESCRIPTION:
URL:https://www.austria-boston.org/event/stammtisch-at-ackers-2/
CATEGORIES:A-AA Sponsored
END:VEVENT
BEGIN:VEVENT
DTSTART;TZID=America/New_York:20111029T000000
DTEND;TZID=America/New_York:20111029T000000
DTSTAMP:20260424T120048
CREATED:20220216T012449Z
LAST-MODIFIED:20220216T012449Z
UID:279-1319846400-1319846400@www.austria-boston.org
SUMMARY:Austrian National Holiday
DESCRIPTION:Flyer: A-AA-2011-10-29-Staatsfeiertag.pdf
URL:https://www.austria-boston.org/event/austrian-national-holiday-3/
CATEGORIES:A-AA Sponsored
END:VEVENT
BEGIN:VEVENT
DTSTART;TZID=America/New_York:20111002T000000
DTEND;TZID=America/New_York:20111002T000000
DTSTAMP:20260424T120048
CREATED:20220216T012449Z
LAST-MODIFIED:20220216T012449Z
UID:280-1317513600-1317513600@www.austria-boston.org
SUMMARY:Annual Heuriger (Austrian-American Day)
DESCRIPTION:Flyer: A-AA-2011-10-01-Heurigen.pdf
URL:https://www.austria-boston.org/event/annual-heuriger-austrian-american-day/
CATEGORIES:A-AA Sponsored
END:VEVENT
BEGIN:VEVENT
DTSTART;TZID=America/New_York:20110918T000000
DTEND;TZID=America/New_York:20110918T000000
DTSTAMP:20260424T120048
CREATED:20220216T012521Z
LAST-MODIFIED:20220216T012521Z
UID:281-1316304000-1316304000@www.austria-boston.org
SUMMARY:Lecture on Thomas Bernhard at 2pm\, 170 Beacon Street\, Boston
DESCRIPTION:
URL:https://www.austria-boston.org/event/lecture-on-thomas-bernhard-at-2pm-170-beacon-street-boston/
CATEGORIES:A-AA Sponsored
END:VEVENT
BEGIN:VEVENT
DTSTART;TZID=America/New_York:20110719T000000
DTEND;TZID=America/New_York:20110719T000000
DTSTAMP:20260424T120048
CREATED:20220216T012521Z
LAST-MODIFIED:20220216T012521Z
UID:282-1311033600-1311033600@www.austria-boston.org
SUMMARY:Newport Music Festival Concert
DESCRIPTION:Flyer: A-AA-2011-07-19NewportFestival-Mozart-Lunch-Liszt.pdf
URL:https://www.austria-boston.org/event/newport-music-festival-concert/
CATEGORIES:A-AA Sponsored
END:VEVENT
BEGIN:VEVENT
DTSTART;TZID=America/New_York:20110604T000000
DTEND;TZID=America/New_York:20110604T000000
DTSTAMP:20260424T120048
CREATED:20220216T012521Z
LAST-MODIFIED:20220216T012521Z
UID:283-1307145600-1307145600@www.austria-boston.org
SUMMARY:Annual Dinner\, Anthony's Pier 4\, Boston
DESCRIPTION:Flyer: A-AA-2011-06-04-AnnualDinnerAnthonyPier4.pdf
URL:https://www.austria-boston.org/event/annual-dinner-anthonys-pier-4-boston/
CATEGORIES:A-AA Sponsored
END:VEVENT
BEGIN:VEVENT
DTSTART;TZID=America/New_York:20110515T000000
DTEND;TZID=America/New_York:20110515T000000
DTSTAMP:20260424T120048
CREATED:20220216T012521Z
LAST-MODIFIED:20220216T012521Z
UID:284-1305417600-1305417600@www.austria-boston.org
SUMMARY:Mozart: A Journey in Music and Words with Veronica Jochum von Moltke
DESCRIPTION:Flyer: A-AA-2011-05-15VeronicaInvitation.pdf
URL:https://www.austria-boston.org/event/mozart-a-journey-in-music-and-words-with-veronica-jochum-von-moltke/
CATEGORIES:A-AA Sponsored
END:VEVENT
BEGIN:VEVENT
DTSTART;TZID=America/New_York:20110416T000000
DTEND;TZID=America/New_York:20110416T000000
DTSTAMP:20260424T120048
CREATED:20220216T012522Z
LAST-MODIFIED:20220216T012522Z
UID:285-1302912000-1302912000@www.austria-boston.org
SUMMARY:Contemporary Austria: Arts and Culture in Times of Globalization\, Thea Lobo Performance (Acker's)
DESCRIPTION:Flyer: A-AA-2011-4-16-MagStadler-Lobo.pdf
URL:https://www.austria-boston.org/event/contemporary-austria-arts-and-culture-in-times-of-globalization-thea-lobo-performance-ackers/
CATEGORIES:A-AA Sponsored
END:VEVENT
BEGIN:VEVENT
DTSTART;TZID=America/New_York:20110319T000000
DTEND;TZID=America/New_York:20110319T000000
DTSTAMP:20260424T120048
CREATED:20220216T012536Z
LAST-MODIFIED:20220216T012536Z
UID:286-1300492800-1300492800@www.austria-boston.org
SUMMARY:Opera Movie: La Traviata (4pm at Acker's home)
DESCRIPTION:Flyer: A-AA-2011-03-19-LaTraviataDVD.pdf
URL:https://www.austria-boston.org/event/opera-movie-la-traviata-4pm-at-ackers-home/
CATEGORIES:A-AA Sponsored
END:VEVENT
END:VCALENDAR