BEGIN:VCALENDAR
VERSION:2.0
PRODID:-//Austro-American Association of Boston - ECPv6.15.20//NONSGML v1.0//EN
CALSCALE:GREGORIAN
METHOD:PUBLISH
X-ORIGINAL-URL:https://www.austria-boston.org
X-WR-CALDESC:Events for Austro-American Association of Boston
REFRESH-INTERVAL;VALUE=DURATION:PT1H
X-Robots-Tag:noindex
X-PUBLISHED-TTL:PT1H
BEGIN:VTIMEZONE
TZID:America/New_York
BEGIN:DAYLIGHT
TZOFFSETFROM:-0500
TZOFFSETTO:-0400
TZNAME:EDT
DTSTART:20250309T070000
END:DAYLIGHT
BEGIN:STANDARD
TZOFFSETFROM:-0400
TZOFFSETTO:-0500
TZNAME:EST
DTSTART:20251102T060000
END:STANDARD
BEGIN:DAYLIGHT
TZOFFSETFROM:-0500
TZOFFSETTO:-0400
TZNAME:EDT
DTSTART:20260308T070000
END:DAYLIGHT
BEGIN:STANDARD
TZOFFSETFROM:-0400
TZOFFSETTO:-0500
TZNAME:EST
DTSTART:20261101T060000
END:STANDARD
BEGIN:DAYLIGHT
TZOFFSETFROM:-0500
TZOFFSETTO:-0400
TZNAME:EDT
DTSTART:20270314T070000
END:DAYLIGHT
BEGIN:STANDARD
TZOFFSETFROM:-0400
TZOFFSETTO:-0500
TZNAME:EST
DTSTART:20271107T060000
END:STANDARD
END:VTIMEZONE
BEGIN:VEVENT
DTSTART;TZID=America/New_York:20260303T193000
DTEND;TZID=America/New_York:20260303T220000
DTSTAMP:20260423T175846
CREATED:20250801T184118Z
LAST-MODIFIED:20250801T184218Z
UID:1233-1772566200-1772575200@www.austria-boston.org
SUMMARY:Vienna Philharmonic at the BSO
DESCRIPTION:For the second of three orchestras we’re proud to host at Symphony Hall this season\, the legendary Vienna Philharmonic returns to Boston for its first concert here since 2003\, under the baton of the BSO’s own Andris Nelsons. International piano sensation Lang Lang\, in the first of two appearances this year\, brings his signature virtuosity and power to the stage for a concert of glorious late Romantic and twentieth-century masterpieces.\nAndris Nelsons\, Conductor\nBARTÓK Piano Concerto No. 3\nMAHLER Symphony No. 1
URL:https://www.austria-boston.org/event/vienna-philharmonic-at-the-bso/
LOCATION:Symphony Hall Boston\, 301 Massachusetts Ave\, Boston\, MA\, 02115\, United States
END:VEVENT
BEGIN:VEVENT
DTSTART;TZID=America/New_York:20260418T140000
DTEND;TZID=America/New_York:20260418T153000
DTSTAMP:20260423T175846
CREATED:20260204T232932Z
LAST-MODIFIED:20260324T133546Z
UID:1311-1776520800-1776526200@www.austria-boston.org
SUMMARY:The Merry Widow - Die Lustige Witwe
DESCRIPTION:A delightful and intriguing comic operetta with wonderful memorable songs. Presented by Erika Reitshamer. \nDownload Flyer
URL:https://www.austria-boston.org/event/the-merry-widow-die-lustige-witwe/
LOCATION:Weston Public Library\, 87 School St\, Weston\, MA\, 02493\, United States
END:VEVENT
BEGIN:VEVENT
DTSTART;TZID=America/New_York:20260510T140000
DTEND;TZID=America/New_York:20260510T170000
DTSTAMP:20260423T175846
CREATED:20260204T233029Z
LAST-MODIFIED:20260422T235743Z
UID:1313-1778421600-1778432400@www.austria-boston.org
SUMMARY:Concert with Michael Fisher
DESCRIPTION:Violin Concert with Michael Fisher (the 2025 A-AA Scholarship award recipient) \nMay 10\, 2026 @ 2:00 pm\, Weston Public Library \nThe Program will include the works of well-known composers from Austria and America\, celebrating the 250th anniversary of America’s founding. \nMichael’s magic with the violin will be accompanied by Dina Vainshtein on the piano. \nComposers Ludwig van Beethoven\, Fritz Kreisler\, Amy Beach and George Gershwin will be featured. \nDownload the flyer.
URL:https://www.austria-boston.org/event/concert-with-michael-fisher/
LOCATION:Weston Public Library\, 87 School St\, Weston\, MA\, 02493\, United States
END:VEVENT
BEGIN:VEVENT
DTSTART;TZID=America/New_York:20260614T170000
DTEND;TZID=America/New_York:20260614T220000
DTSTAMP:20260423T175846
CREATED:20260204T233129Z
LAST-MODIFIED:20260204T233129Z
UID:1315-1781456400-1781474400@www.austria-boston.org
SUMMARY:Annual Dinner and Meeting
DESCRIPTION:The Austro-American Association Annual Dinner and Meeting with beautiful music and a delicious dinner! Bullfinchs Restaurant\, Sudbury\, MA. Flyer and details to follow.
URL:https://www.austria-boston.org/event/annual-dinner-and-meeting-2/
LOCATION:Bullfinchs Restaurant & Catering\, 730 Boston Post Road\, Sudbury\, MA\, MA\, 01776\, United States
END:VEVENT
END:VCALENDAR