BEGIN:VCALENDAR
VERSION:2.0
PRODID:-//Austro-American Association of Boston - ECPv6.15.20//NONSGML v1.0//EN
CALSCALE:GREGORIAN
METHOD:PUBLISH
X-ORIGINAL-URL:https://www.austria-boston.org
X-WR-CALDESC:Events for Austro-American Association of Boston
REFRESH-INTERVAL;VALUE=DURATION:PT1H
X-Robots-Tag:noindex
X-PUBLISHED-TTL:PT1H
BEGIN:VTIMEZONE
TZID:America/New_York
BEGIN:DAYLIGHT
TZOFFSETFROM:-0500
TZOFFSETTO:-0400
TZNAME:EDT
DTSTART:20130310T070000
END:DAYLIGHT
BEGIN:STANDARD
TZOFFSETFROM:-0400
TZOFFSETTO:-0500
TZNAME:EST
DTSTART:20131103T060000
END:STANDARD
BEGIN:DAYLIGHT
TZOFFSETFROM:-0500
TZOFFSETTO:-0400
TZNAME:EDT
DTSTART:20140309T070000
END:DAYLIGHT
BEGIN:STANDARD
TZOFFSETFROM:-0400
TZOFFSETTO:-0500
TZNAME:EST
DTSTART:20141102T060000
END:STANDARD
BEGIN:DAYLIGHT
TZOFFSETFROM:-0500
TZOFFSETTO:-0400
TZNAME:EDT
DTSTART:20150308T070000
END:DAYLIGHT
BEGIN:STANDARD
TZOFFSETFROM:-0400
TZOFFSETTO:-0500
TZNAME:EST
DTSTART:20151101T060000
END:STANDARD
BEGIN:DAYLIGHT
TZOFFSETFROM:-0500
TZOFFSETTO:-0400
TZNAME:EDT
DTSTART:20160313T070000
END:DAYLIGHT
BEGIN:STANDARD
TZOFFSETFROM:-0400
TZOFFSETTO:-0500
TZNAME:EST
DTSTART:20161106T060000
END:STANDARD
BEGIN:DAYLIGHT
TZOFFSETFROM:-0500
TZOFFSETTO:-0400
TZNAME:EDT
DTSTART:20170312T070000
END:DAYLIGHT
BEGIN:STANDARD
TZOFFSETFROM:-0400
TZOFFSETTO:-0500
TZNAME:EST
DTSTART:20171105T060000
END:STANDARD
BEGIN:DAYLIGHT
TZOFFSETFROM:-0500
TZOFFSETTO:-0400
TZNAME:EDT
DTSTART:20180311T070000
END:DAYLIGHT
BEGIN:STANDARD
TZOFFSETFROM:-0400
TZOFFSETTO:-0500
TZNAME:EST
DTSTART:20181104T060000
END:STANDARD
END:VTIMEZONE
BEGIN:VEVENT
DTSTART;TZID=America/New_York:20170429T000000
DTEND;TZID=America/New_York:20170429T000000
DTSTAMP:20260423T202413
CREATED:20220216T010214Z
LAST-MODIFIED:20220216T010214Z
UID:205-1493424000-1493424000@www.austria-boston.org
SUMMARY:A Musical Voyage from Vienna to Kiev (Rupert Bergman\, Olga Lisovskaya\, Boris Fogel)
DESCRIPTION:Flyer: A-AA2017-04-29MusicalJourney-FromViennatoKiev.pdf
URL:https://www.austria-boston.org/event/a-musical-voyage-from-vienna-to-kiev-rupert-bergman-olga-lisovskaya-boris-fogel/
CATEGORIES:A-AA Sponsored
END:VEVENT
BEGIN:VEVENT
DTSTART;TZID=America/New_York:20170325T000000
DTEND;TZID=America/New_York:20170325T000000
DTSTAMP:20260423T202413
CREATED:20220216T010214Z
LAST-MODIFIED:20220216T010214Z
UID:206-1490400000-1490400000@www.austria-boston.org
SUMMARY:Brian Moll and Company
DESCRIPTION:Flyer: A-AA-2017-03-25-BrianMoll.pdf
URL:https://www.austria-boston.org/event/brian-moll-and-company/
CATEGORIES:A-AA Sponsored
END:VEVENT
BEGIN:VEVENT
DTSTART;TZID=America/New_York:20170304T000000
DTEND;TZID=America/New_York:20170304T000000
DTSTAMP:20260423T202413
CREATED:20220216T010214Z
LAST-MODIFIED:20220216T010214Z
UID:207-1488585600-1488585600@www.austria-boston.org
SUMMARY:Movie Night at the Donners\, to be announced
DESCRIPTION:
URL:https://www.austria-boston.org/event/movie-night-at-the-donners-to-be-announced/
CATEGORIES:A-AA Sponsored
END:VEVENT
BEGIN:VEVENT
DTSTART;TZID=America/New_York:20170204T000000
DTEND;TZID=America/New_York:20170204T000000
DTSTAMP:20260423T202413
CREATED:20220216T010214Z
LAST-MODIFIED:20220216T010214Z
UID:208-1486166400-1486166400@www.austria-boston.org
SUMMARY:Stammtisch at Renate's Home at 5pm
DESCRIPTION:
URL:https://www.austria-boston.org/event/stammtisch-at-renates-home-at-5pm/
CATEGORIES:A-AA Sponsored
END:VEVENT
BEGIN:VEVENT
DTSTART;TZID=America/New_York:20161217T000000
DTEND;TZID=America/New_York:20161217T000000
DTSTAMP:20260423T202413
CREATED:20220216T010215Z
LAST-MODIFIED:20220216T010215Z
UID:209-1481932800-1481932800@www.austria-boston.org
SUMMARY:Christmas Celebration at the Ackers
DESCRIPTION:Flyer: A-AA-2016-12-17-ChristmasCelebration.pdf
URL:https://www.austria-boston.org/event/christmas-celebration-at-the-ackers/
CATEGORIES:A-AA Sponsored
END:VEVENT
BEGIN:VEVENT
DTSTART;TZID=America/New_York:20161119T000000
DTEND;TZID=America/New_York:20161119T000000
DTSTAMP:20260423T202413
CREATED:20220216T010414Z
LAST-MODIFIED:20220216T010414Z
UID:211-1479513600-1479513600@www.austria-boston.org
SUMMARY:Stammtisch at the Acker Home
DESCRIPTION:
URL:https://www.austria-boston.org/event/stammtisch-at-the-acker-home/
CATEGORIES:A-AA Sponsored
END:VEVENT
BEGIN:VEVENT
DTSTART;TZID=America/New_York:20161022T000000
DTEND;TZID=America/New_York:20161022T000000
DTSTAMP:20260423T202413
CREATED:20220216T010414Z
LAST-MODIFIED:20220216T010414Z
UID:212-1477094400-1477094400@www.austria-boston.org
SUMMARY:Austrian National Holiday
DESCRIPTION:Flyer: A-AA-2016-10-22-NationalHoliday.pdf
URL:https://www.austria-boston.org/event/austrian-national-holiday/
CATEGORIES:A-AA Sponsored
END:VEVENT
BEGIN:VEVENT
DTSTART;TZID=America/New_York:20160924T000000
DTEND;TZID=America/New_York:20160924T000000
DTSTAMP:20260423T202413
CREATED:20220216T010414Z
LAST-MODIFIED:20220216T010414Z
UID:213-1474675200-1474675200@www.austria-boston.org
SUMMARY:Annual Heurigen
DESCRIPTION:Flyer: A-AA2016-09-24Heurigen.pdf
URL:https://www.austria-boston.org/event/annual-heurigen/
CATEGORIES:A-AA Sponsored
END:VEVENT
BEGIN:VEVENT
DTSTART;TZID=America/New_York:20160604T000000
DTEND;TZID=America/New_York:20160604T000000
DTSTAMP:20260423T202413
CREATED:20220216T010415Z
LAST-MODIFIED:20220216T010415Z
UID:214-1464998400-1464998400@www.austria-boston.org
SUMMARY:Annual Dinner at the Wayside Inn
DESCRIPTION:Flyer: A-AA-2016-06-04-AnnualDinner.pdf
URL:https://www.austria-boston.org/event/annual-dinner-at-the-wayside-inn-2/
CATEGORIES:A-AA Sponsored
END:VEVENT
BEGIN:VEVENT
DTSTART;TZID=America/New_York:20160507T000000
DTEND;TZID=America/New_York:20160507T000000
DTSTAMP:20260423T202413
CREATED:20220216T010415Z
LAST-MODIFIED:20220216T010415Z
UID:215-1462579200-1462579200@www.austria-boston.org
SUMMARY:Stammtisch at the Acker's\, 5pm\, Sudbury. Please call 978 579 2191 for your reservation.
DESCRIPTION:
URL:https://www.austria-boston.org/event/stammtisch-at-the-ackers-5pm-sudbury-please-call-978-579-2191-for-your-reservation/
CATEGORIES:A-AA Sponsored
END:VEVENT
BEGIN:VEVENT
DTSTART;TZID=America/New_York:20160402T000000
DTEND;TZID=America/New_York:20160402T000000
DTSTAMP:20260423T202413
CREATED:20220216T010614Z
LAST-MODIFIED:20220216T010614Z
UID:216-1459555200-1459555200@www.austria-boston.org
SUMMARY:Performance by Barabara Kilduff\, soprano
DESCRIPTION:Flyer: A-AA2016-04-02-BarbaraKilduffandBrianMoll.pdf
URL:https://www.austria-boston.org/event/performance-by-barabara-kilduff-soprano/
CATEGORIES:A-AA Sponsored
END:VEVENT
BEGIN:VEVENT
DTSTART;TZID=America/New_York:20160319T000000
DTEND;TZID=America/New_York:20160319T000000
DTSTAMP:20260423T202413
CREATED:20220216T010614Z
LAST-MODIFIED:20220216T010614Z
UID:217-1458345600-1458345600@www.austria-boston.org
SUMMARY:A Night in Old Vienna at 8pm in Newton Centre.
DESCRIPTION:Flyer: Vienna2016.pdf
URL:https://www.austria-boston.org/event/a-night-in-old-vienna-at-8pm-in-newton-centre/
CATEGORIES:A-AA Sponsored
END:VEVENT
BEGIN:VEVENT
DTSTART;TZID=America/New_York:20160220T000000
DTEND;TZID=America/New_York:20160220T000000
DTSTAMP:20260423T202413
CREATED:20220216T010614Z
LAST-MODIFIED:20220216T010614Z
UID:218-1455926400-1455926400@www.austria-boston.org
SUMMARY:Austrian Movie Night
DESCRIPTION:Flyer: A-AA2016-02-20-MovieNight.pdf
URL:https://www.austria-boston.org/event/austrian-movie-night/
CATEGORIES:A-AA Sponsored
END:VEVENT
BEGIN:VEVENT
DTSTART;TZID=America/New_York:20151219T000000
DTEND;TZID=America/New_York:20151219T000000
DTSTAMP:20260423T202413
CREATED:20220216T010615Z
LAST-MODIFIED:20220216T010615Z
UID:220-1450483200-1450483200@www.austria-boston.org
SUMMARY:Christmas Celebration at the Ackers'
DESCRIPTION:Flyer: A-AA-2015-12-19-Christmas-Celebration.pdf
URL:https://www.austria-boston.org/event/christmas-celebration-at-the-ackers-2/
CATEGORIES:A-AA Sponsored
END:VEVENT
BEGIN:VEVENT
DTSTART;TZID=America/New_York:20151121T000000
DTEND;TZID=America/New_York:20151121T000000
DTSTAMP:20260423T202413
CREATED:20220216T010813Z
LAST-MODIFIED:20220216T010813Z
UID:222-1448064000-1448064000@www.austria-boston.org
SUMMARY:Stammtisch at the Ackers' Home\, 5pm
DESCRIPTION:
URL:https://www.austria-boston.org/event/stammtisch-at-the-ackers-home-5pm/
CATEGORIES:A-AA Sponsored
END:VEVENT
BEGIN:VEVENT
DTSTART;TZID=America/New_York:20151024T000000
DTEND;TZID=America/New_York:20151024T000000
DTSTAMP:20260423T202413
CREATED:20220216T010814Z
LAST-MODIFIED:20220216T010814Z
UID:223-1445644800-1445644800@www.austria-boston.org
SUMMARY:Staatsfeiertag Celebration
DESCRIPTION:Flyer: A-AA-2015-10-24-Staatsfeiertag-SiegfriedSharma.pdf
URL:https://www.austria-boston.org/event/staatsfeiertag-celebration/
CATEGORIES:A-AA Sponsored
END:VEVENT
BEGIN:VEVENT
DTSTART;TZID=America/New_York:20150919T000000
DTEND;TZID=America/New_York:20150919T000000
DTSTAMP:20260423T202413
CREATED:20220216T010814Z
LAST-MODIFIED:20220216T010814Z
UID:224-1442620800-1442620800@www.austria-boston.org
SUMMARY:Annual Austrian Heuriger at the Ackers' Home
DESCRIPTION:Flyer: A-AA-2015-09-19-Heuriger-A-ADay.pdf
URL:https://www.austria-boston.org/event/annual-austrian-heuriger-at-the-ackers-home/
CATEGORIES:A-AA Sponsored
END:VEVENT
BEGIN:VEVENT
DTSTART;TZID=America/New_York:20150606T000000
DTEND;TZID=America/New_York:20150606T000000
DTSTAMP:20260423T202413
CREATED:20220216T010814Z
LAST-MODIFIED:20220216T010814Z
UID:225-1433548800-1433548800@www.austria-boston.org
SUMMARY:Annual Dinner at the Wayside Inn\, Sudbury
DESCRIPTION:Flyer: A-AA-2015-06-06-AnnualDinner.pdf
URL:https://www.austria-boston.org/event/annual-dinner-at-the-wayside-inn-sudbury/
CATEGORIES:A-AA Sponsored
END:VEVENT
BEGIN:VEVENT
DTSTART;TZID=America/New_York:20150520T000000
DTEND;TZID=America/New_York:20150520T000000
DTSTAMP:20260423T202413
CREATED:20220216T010814Z
LAST-MODIFIED:20220216T010814Z
UID:226-1432080000-1432080000@www.austria-boston.org
SUMMARY:Männerquintett Klagenfurt\, Performance at the Ackers' home
DESCRIPTION:Flyer: A-AA-2015-05-20-MaennerquintettKlagenfurt.pdf
URL:https://www.austria-boston.org/event/mannerquintett-klagenfurt-performance-at-the-ackers-home/
CATEGORIES:A-AA Sponsored
END:VEVENT
BEGIN:VEVENT
DTSTART;TZID=America/New_York:20150418T000000
DTEND;TZID=America/New_York:20150418T000000
DTSTAMP:20260423T202413
CREATED:20220216T010841Z
LAST-MODIFIED:20220216T010841Z
UID:228-1429315200-1429315200@www.austria-boston.org
SUMMARY:The Austrian Lied from Joseph Haydn to Hugo Wolf\, Presentation at the Ackers' home
DESCRIPTION:Flyer: A-AA-2015-04-18-BrianMoll.pdf
URL:https://www.austria-boston.org/event/the-austrian-lied-from-joseph-haydn-to-hugo-wolf-presentation-at-the-ackers-home/
CATEGORIES:A-AA Sponsored
END:VEVENT
BEGIN:VEVENT
DTSTART;TZID=America/New_York:20150329T000000
DTEND;TZID=America/New_York:20150329T000000
DTSTAMP:20260423T202413
CREATED:20220216T010841Z
LAST-MODIFIED:20220216T010841Z
UID:229-1427587200-1427587200@www.austria-boston.org
SUMMARY:Der Zigeunerbaron - Film at the Goethe Society
DESCRIPTION:
URL:https://www.austria-boston.org/event/der-zigeunerbaron-film-at-the-goethe-society/
CATEGORIES:A-AA Sponsored
END:VEVENT
BEGIN:VEVENT
DTSTART;TZID=America/New_York:20150321T000000
DTEND;TZID=America/New_York:20150321T000000
DTSTAMP:20260423T202413
CREATED:20220216T010842Z
LAST-MODIFIED:20220216T010842Z
UID:231-1426896000-1426896000@www.austria-boston.org
SUMMARY:Concert in Nahant "Made in Austria"
DESCRIPTION:Flyer: MadeInAustria.pdf
URL:https://www.austria-boston.org/event/concert-in-nahant-made-in-austria/
CATEGORIES:A-AA Sponsored
END:VEVENT
BEGIN:VEVENT
DTSTART;TZID=America/New_York:20150321T000000
DTEND;TZID=America/New_York:20150321T000000
DTSTAMP:20260423T202413
CREATED:20220216T010841Z
LAST-MODIFIED:20220216T010841Z
UID:230-1426896000-1426896000@www.austria-boston.org
SUMMARY:Stammtisch at the Ackers
DESCRIPTION:
URL:https://www.austria-boston.org/event/stammtisch-at-the-ackers/
CATEGORIES:A-AA Sponsored
END:VEVENT
BEGIN:VEVENT
DTSTART;TZID=America/New_York:20150314T000000
DTEND;TZID=America/New_York:20150314T000000
DTSTAMP:20260423T202413
CREATED:20220216T010842Z
LAST-MODIFIED:20220216T010842Z
UID:232-1426291200-1426291200@www.austria-boston.org
SUMMARY:Strauss Ball at the Boylston Schul-Verein
DESCRIPTION:Flyer: A-AA-2015-03-14-StraussBall.pdf
URL:https://www.austria-boston.org/event/strauss-ball-at-the-boylston-schul-verein/
CATEGORIES:A-AA Sponsored
END:VEVENT
BEGIN:VEVENT
DTSTART;TZID=America/New_York:20150228T000000
DTEND;TZID=America/New_York:20150228T000000
DTSTAMP:20260423T202413
CREATED:20220216T010856Z
LAST-MODIFIED:20220216T010856Z
UID:233-1425081600-1425081600@www.austria-boston.org
SUMMARY:Austrian Movie Night at the Donners
DESCRIPTION:Flyer: A-AA2015-02-21-MovieNight.pdf
URL:https://www.austria-boston.org/event/austrian-movie-night-at-the-donners-2/
CATEGORIES:A-AA Sponsored
END:VEVENT
BEGIN:VEVENT
DTSTART;TZID=America/New_York:20141220T000000
DTEND;TZID=America/New_York:20141220T000000
DTSTAMP:20260423T202413
CREATED:20220216T010856Z
LAST-MODIFIED:20220216T010856Z
UID:234-1419033600-1419033600@www.austria-boston.org
SUMMARY:Christmas Celebration
DESCRIPTION:Flyer: A-AA-2014-12-20-ChristmasCelebration.pdf
URL:https://www.austria-boston.org/event/christmas-celebration-2/
CATEGORIES:A-AA Sponsored
END:VEVENT
BEGIN:VEVENT
DTSTART;TZID=America/New_York:20141114T000000
DTEND;TZID=America/New_York:20141114T000000
DTSTAMP:20260423T202413
CREATED:20220216T010856Z
LAST-MODIFIED:20220216T010856Z
UID:235-1415923200-1415923200@www.austria-boston.org
SUMMARY:Stammtisch
DESCRIPTION:
URL:https://www.austria-boston.org/event/stammtisch/
CATEGORIES:A-AA Sponsored
END:VEVENT
BEGIN:VEVENT
DTSTART;TZID=America/New_York:20141025T000000
DTEND;TZID=America/New_York:20141025T000000
DTSTAMP:20260423T202413
CREATED:20220216T010857Z
LAST-MODIFIED:20220216T010857Z
UID:236-1414195200-1414195200@www.austria-boston.org
SUMMARY:Austrian National Holiday\, Presentation by our research award winner Paul-Andre Bempechat
DESCRIPTION:Flyer: A-AA-2014-10-25-Staatsfeiertag-Bempechat.pdf
URL:https://www.austria-boston.org/event/austrian-national-holiday-presentation-by-our-research-award-winner-paul-andre-bempechat/
CATEGORIES:A-AA Sponsored
END:VEVENT
BEGIN:VEVENT
DTSTART;TZID=America/New_York:20140927T000000
DTEND;TZID=America/New_York:20140927T000000
DTSTAMP:20260423T202413
CREATED:20220216T010857Z
LAST-MODIFIED:20220216T010857Z
UID:237-1411776000-1411776000@www.austria-boston.org
SUMMARY:Annual Austrian Heuriger at the Acker's Home
DESCRIPTION:Flyer: A-AA-2014-09-27-Heuriger.pdf
URL:https://www.austria-boston.org/event/annual-austrian-heuriger-at-the-ackers-home-2/
CATEGORIES:A-AA Sponsored
END:VEVENT
BEGIN:VEVENT
DTSTART;TZID=America/New_York:20140621T000000
DTEND;TZID=America/New_York:20140621T000000
DTSTAMP:20260423T202413
CREATED:20220216T011056Z
LAST-MODIFIED:20220216T011056Z
UID:238-1403308800-1403308800@www.austria-boston.org
SUMMARY:70th Anniversary Gala Dinner at the MIT Endicott House
DESCRIPTION:Flyer: A-AA2014-06-21-70thAnniversary-Invitation.pdf
URL:https://www.austria-boston.org/event/70th-anniversary-gala-dinner-at-the-mit-endicott-house/
CATEGORIES:A-AA Sponsored
END:VEVENT
END:VCALENDAR