BEGIN:VCALENDAR
VERSION:2.0
PRODID:-//Austro-American Association of Boston - ECPv6.15.20//NONSGML v1.0//EN
CALSCALE:GREGORIAN
METHOD:PUBLISH
X-WR-CALNAME:Austro-American Association of Boston
X-ORIGINAL-URL:https://www.austria-boston.org
X-WR-CALDESC:Events for Austro-American Association of Boston
REFRESH-INTERVAL;VALUE=DURATION:PT1H
X-Robots-Tag:noindex
X-PUBLISHED-TTL:PT1H
BEGIN:VTIMEZONE
TZID:America/New_York
BEGIN:DAYLIGHT
TZOFFSETFROM:-0500
TZOFFSETTO:-0400
TZNAME:EDT
DTSTART:20070311T070000
END:DAYLIGHT
BEGIN:STANDARD
TZOFFSETFROM:-0400
TZOFFSETTO:-0500
TZNAME:EST
DTSTART:20071104T060000
END:STANDARD
BEGIN:DAYLIGHT
TZOFFSETFROM:-0500
TZOFFSETTO:-0400
TZNAME:EDT
DTSTART:20080309T070000
END:DAYLIGHT
BEGIN:STANDARD
TZOFFSETFROM:-0400
TZOFFSETTO:-0500
TZNAME:EST
DTSTART:20081102T060000
END:STANDARD
BEGIN:DAYLIGHT
TZOFFSETFROM:-0500
TZOFFSETTO:-0400
TZNAME:EDT
DTSTART:20090308T070000
END:DAYLIGHT
BEGIN:STANDARD
TZOFFSETFROM:-0400
TZOFFSETTO:-0500
TZNAME:EST
DTSTART:20091101T060000
END:STANDARD
BEGIN:DAYLIGHT
TZOFFSETFROM:-0500
TZOFFSETTO:-0400
TZNAME:EDT
DTSTART:20100314T070000
END:DAYLIGHT
BEGIN:STANDARD
TZOFFSETFROM:-0400
TZOFFSETTO:-0500
TZNAME:EST
DTSTART:20101107T060000
END:STANDARD
BEGIN:DAYLIGHT
TZOFFSETFROM:-0500
TZOFFSETTO:-0400
TZNAME:EDT
DTSTART:20110313T070000
END:DAYLIGHT
BEGIN:STANDARD
TZOFFSETFROM:-0400
TZOFFSETTO:-0500
TZNAME:EST
DTSTART:20111106T060000
END:STANDARD
END:VTIMEZONE
BEGIN:VEVENT
DTSTART;TZID=America/New_York:20101218T000000
DTEND;TZID=America/New_York:20101218T000000
DTSTAMP:20260424T061112
CREATED:20220216T012537Z
LAST-MODIFIED:20220216T012537Z
UID:289-1292630400-1292630400@www.austria-boston.org
SUMMARY:Christmas Celebration
DESCRIPTION:Flyer: A-AA-2010-12-18ChristmasFlyer2.pdf
URL:https://www.austria-boston.org/event/christmas-celebration-6/
CATEGORIES:A-AA Sponsored
END:VEVENT
BEGIN:VEVENT
DTSTART;TZID=America/New_York:20101113T000000
DTEND;TZID=America/New_York:20101113T000000
DTSTAMP:20260424T061112
CREATED:20220216T012537Z
LAST-MODIFIED:20220216T012537Z
UID:290-1289606400-1289606400@www.austria-boston.org
SUMMARY:Opening Event of the Salzburg Institute at Gordon College\, Wenham MA (3pm)
DESCRIPTION:Flyer: A-AA2010-11-13-GordonCollege.pdf
URL:https://www.austria-boston.org/event/opening-event-of-the-salzburg-institute-at-gordon-college-wenham-ma-3pm/
CATEGORIES:A-AA Sponsored
END:VEVENT
BEGIN:VEVENT
DTSTART;TZID=America/New_York:20101026T000000
DTEND;TZID=America/New_York:20101026T000000
DTSTAMP:20260424T061112
CREATED:20220216T012604Z
LAST-MODIFIED:20220216T012604Z
UID:291-1288051200-1288051200@www.austria-boston.org
SUMMARY:Austrian National Day: Reception at the Consulate in New York City\, 6pm
DESCRIPTION:Flyer: reception.pdf
URL:https://www.austria-boston.org/event/austrian-national-day-reception-at-the-consulate-in-new-york-city-6pm/
CATEGORIES:A-AA Sponsored
END:VEVENT
BEGIN:VEVENT
DTSTART;TZID=America/New_York:20101002T000000
DTEND;TZID=America/New_York:20101002T000000
DTSTAMP:20260424T061112
CREATED:20220216T012604Z
LAST-MODIFIED:20220216T012604Z
UID:292-1285977600-1285977600@www.austria-boston.org
SUMMARY:Annual Heuriger and Austrian-American Day
DESCRIPTION:Flyer: A-AA2010-10-02-HeurigenA-AADay.pdf
URL:https://www.austria-boston.org/event/annual-heuriger-and-austrian-american-day/
CATEGORIES:A-AA Sponsored
END:VEVENT
BEGIN:VEVENT
DTSTART;TZID=America/New_York:20100922T000000
DTEND;TZID=America/New_York:20100922T000000
DTSTAMP:20260424T061112
CREATED:20220216T012604Z
LAST-MODIFIED:20220216T012604Z
UID:293-1285113600-1285113600@www.austria-boston.org
SUMMARY:Address by the President of Austria Dr. Heinz Fischer at Harvard\, 5PM
DESCRIPTION:Flyer: A-AA2010-09-22-FischerAddress.pdf
URL:https://www.austria-boston.org/event/address-by-the-president-of-austria-dr-heinz-fischer-at-harvard-5pm/
CATEGORIES:A-AA Sponsored
END:VEVENT
BEGIN:VEVENT
DTSTART;TZID=America/New_York:20100722T000000
DTEND;TZID=America/New_York:20100722T000000
DTSTAMP:20260424T061112
CREATED:20220216T012605Z
LAST-MODIFIED:20220216T012605Z
UID:294-1279756800-1279756800@www.austria-boston.org
SUMMARY:Newport Music Festival
DESCRIPTION:Flyer: A-AA-2010-07-22-NewportConcert.pdf
URL:https://www.austria-boston.org/event/newport-music-festival-2/
CATEGORIES:A-AA Sponsored
END:VEVENT
BEGIN:VEVENT
DTSTART;TZID=America/New_York:20100605T000000
DTEND;TZID=America/New_York:20100605T000000
DTSTAMP:20260424T061112
CREATED:20220216T012605Z
LAST-MODIFIED:20220216T012605Z
UID:295-1275696000-1275696000@www.austria-boston.org
SUMMARY:Annual Dinner at Anthony's Pier 4\, Boston
DESCRIPTION:Flyer: A-AA-2010-06-05-AnnualDinner.pdf
URL:https://www.austria-boston.org/event/annual-dinner-at-anthonys-pier-4-boston/
CATEGORIES:A-AA Sponsored
END:VEVENT
BEGIN:VEVENT
DTSTART;TZID=America/New_York:20100521T000000
DTEND;TZID=America/New_York:20100521T000000
DTSTAMP:20260424T061112
CREATED:20220216T012619Z
LAST-MODIFIED:20220216T012619Z
UID:296-1274400000-1274400000@www.austria-boston.org
SUMMARY:Stammtisch at Ackers'
DESCRIPTION:
URL:https://www.austria-boston.org/event/stammtisch-at-ackers-3/
CATEGORIES:A-AA Sponsored
END:VEVENT
BEGIN:VEVENT
DTSTART;TZID=America/New_York:20100417T000000
DTEND;TZID=America/New_York:20100417T000000
DTSTAMP:20260424T061112
CREATED:20220216T012619Z
LAST-MODIFIED:20220216T012619Z
UID:297-1271462400-1271462400@www.austria-boston.org
SUMMARY:Scholarship Evening with Thea Lobo
DESCRIPTION:Flyer: A-AA2010-4-17-TheaLoboFlyer.pdf
URL:https://www.austria-boston.org/event/scholarship-evening-with-thea-lobo/
CATEGORIES:A-AA Sponsored
END:VEVENT
BEGIN:VEVENT
DTSTART;TZID=America/New_York:20100313T000000
DTEND;TZID=America/New_York:20100313T000000
DTSTAMP:20260424T061112
CREATED:20220216T012619Z
LAST-MODIFIED:20220216T012619Z
UID:298-1268438400-1268438400@www.austria-boston.org
SUMMARY:Strauss Ball at the Boylston Schulverein
DESCRIPTION:Flyer: A-AA-2010-03-13-StraussBall.pdf
URL:https://www.austria-boston.org/event/strauss-ball-at-the-boylston-schulverein/
CATEGORIES:A-AA Sponsored
END:VEVENT
BEGIN:VEVENT
DTSTART;TZID=America/New_York:20100227T000000
DTEND;TZID=America/New_York:20100227T000000
DTSTAMP:20260424T061112
CREATED:20220216T012620Z
LAST-MODIFIED:20220216T012620Z
UID:299-1267228800-1267228800@www.austria-boston.org
SUMMARY:Austrian Movie Night at the Donner's in Medfield\, 5pm
DESCRIPTION:
URL:https://www.austria-boston.org/event/austrian-movie-night-at-the-donners-in-medfield-5pm/
CATEGORIES:A-AA Sponsored
END:VEVENT
BEGIN:VEVENT
DTSTART;TZID=America/New_York:20091219T000000
DTEND;TZID=America/New_York:20091219T000000
DTSTAMP:20260424T061112
CREATED:20220216T012819Z
LAST-MODIFIED:20220216T012819Z
UID:301-1261180800-1261180800@www.austria-boston.org
SUMMARY:Christmas Celebration
DESCRIPTION:Flyer: A-AA-2009-12-19-ChristmasCelebration.pdf
URL:https://www.austria-boston.org/event/christmas-celebration-7/
CATEGORIES:A-AA Sponsored
END:VEVENT
BEGIN:VEVENT
DTSTART;TZID=America/New_York:20091024T000000
DTEND;TZID=America/New_York:20091024T000000
DTSTAMP:20260424T061112
CREATED:20220216T012819Z
LAST-MODIFIED:20220216T012819Z
UID:302-1256342400-1256342400@www.austria-boston.org
SUMMARY:Austrian National Holiday
DESCRIPTION:Flyer: A-AA-2009-10-24-Staatsfeiertag.pdf
URL:https://www.austria-boston.org/event/austrian-national-holiday-4/
CATEGORIES:A-AA Sponsored
END:VEVENT
BEGIN:VEVENT
DTSTART;TZID=America/New_York:20090926T000000
DTEND;TZID=America/New_York:20090926T000000
DTSTAMP:20260424T061112
CREATED:20220216T012820Z
LAST-MODIFIED:20220216T012820Z
UID:303-1253923200-1253923200@www.austria-boston.org
SUMMARY:Austrian-American Day Celebration and Heuriger
DESCRIPTION:Flyer: A-AA2009-09-26A-AADayAndHeurigen.pdf
URL:https://www.austria-boston.org/event/austrian-american-day-celebration-and-heuriger/
CATEGORIES:A-AA Sponsored
END:VEVENT
BEGIN:VEVENT
DTSTART;TZID=America/New_York:20090716T000000
DTEND;TZID=America/New_York:20090716T000000
DTSTAMP:20260424T061112
CREATED:20220216T012820Z
LAST-MODIFIED:20220216T012820Z
UID:304-1247702400-1247702400@www.austria-boston.org
SUMMARY:Newport Music Festival - Habsburg Dynasty
DESCRIPTION:Flyer: A-AA-2009-07-16-NewportConcertFlyer.pdf
URL:https://www.austria-boston.org/event/newport-music-festival-habsburg-dynasty/
CATEGORIES:A-AA Sponsored
END:VEVENT
BEGIN:VEVENT
DTSTART;TZID=America/New_York:20090606T000000
DTEND;TZID=America/New_York:20090606T000000
DTSTAMP:20260424T061112
CREATED:20220216T012820Z
LAST-MODIFIED:20220216T012820Z
UID:305-1244246400-1244246400@www.austria-boston.org
SUMMARY:Annual Dinner at the MIT Endicott House in Dedham
DESCRIPTION:Flyer: A-AA-2009-06-06-65thAnniversaryCelebration.pdf
URL:https://www.austria-boston.org/event/annual-dinner-at-the-mit-endicott-house-in-dedham/
CATEGORIES:A-AA Sponsored
END:VEVENT
BEGIN:VEVENT
DTSTART;TZID=America/New_York:20090515T000000
DTEND;TZID=America/New_York:20090515T000000
DTSTAMP:20260424T061112
CREATED:20220216T013019Z
LAST-MODIFIED:20220216T013019Z
UID:307-1242345600-1242345600@www.austria-boston.org
SUMMARY:Stammtisch at Acker's (6:30pm\, 67 Bridle Path\, Sudbury)
DESCRIPTION:
URL:https://www.austria-boston.org/event/stammtisch-at-ackers-630pm-67-bridle-path-sudbury/
CATEGORIES:A-AA Sponsored
END:VEVENT
BEGIN:VEVENT
DTSTART;TZID=America/New_York:20090328T000000
DTEND;TZID=America/New_York:20090328T000000
DTSTAMP:20260424T061112
CREATED:20220216T013019Z
LAST-MODIFIED:20220216T013019Z
UID:308-1238198400-1238198400@www.austria-boston.org
SUMMARY:Scholarship Recipient Anna Souchuk: The Concept of Gemütlichkeit
DESCRIPTION:Flyer: A-AA2009-03-28-Scholarship-AnnaSoucheck.pdf
URL:https://www.austria-boston.org/event/scholarship-recipient-anna-souchuk-the-concept-of-gemutlichkeit/
CATEGORIES:A-AA Sponsored
END:VEVENT
BEGIN:VEVENT
DTSTART;TZID=America/New_York:20090314T000000
DTEND;TZID=America/New_York:20090314T000000
DTSTAMP:20260424T061112
CREATED:20220216T013020Z
LAST-MODIFIED:20220216T013020Z
UID:309-1236988800-1236988800@www.austria-boston.org
SUMMARY:Strauss Ball at the Boylston Schulverein
DESCRIPTION:Flyer: A-AA2009-03-14-StraussBall.pdf
URL:https://www.austria-boston.org/event/strauss-ball-at-the-boylston-schulverein-2/
CATEGORIES:A-AA Sponsored
END:VEVENT
BEGIN:VEVENT
DTSTART;TZID=America/New_York:20090207T000000
DTEND;TZID=America/New_York:20090207T000000
DTSTAMP:20260424T061112
CREATED:20220216T013219Z
LAST-MODIFIED:20220216T013219Z
UID:311-1233964800-1233964800@www.austria-boston.org
SUMMARY:Movie Night at Donner's
DESCRIPTION:Flyer: A-AA2009-02-07-MovieNight.pdf
URL:https://www.austria-boston.org/event/movie-night-at-donners/
CATEGORIES:A-AA Sponsored
END:VEVENT
BEGIN:VEVENT
DTSTART;TZID=America/New_York:20081220T000000
DTEND;TZID=America/New_York:20081220T000000
DTSTAMP:20260424T061112
CREATED:20220216T013219Z
LAST-MODIFIED:20220216T013219Z
UID:312-1229731200-1229731200@www.austria-boston.org
SUMMARY:Christmas Celebration at Acker's
DESCRIPTION:Flyer: A-AA2008-12-20ChristmasFlyer.pdf
URL:https://www.austria-boston.org/event/christmas-celebration-at-ackers/
CATEGORIES:A-AA Sponsored
END:VEVENT
BEGIN:VEVENT
DTSTART;TZID=America/New_York:20081025T000000
DTEND;TZID=America/New_York:20081025T000000
DTSTAMP:20260424T061112
CREATED:20220216T013219Z
LAST-MODIFIED:20220216T013219Z
UID:313-1224892800-1224892800@www.austria-boston.org
SUMMARY:Staatsfeiertag
DESCRIPTION:Flyer: A-AA-2008-10-27-Staatsfeiertag.pdf
URL:https://www.austria-boston.org/event/staatsfeiertag/
CATEGORIES:A-AA Sponsored
END:VEVENT
BEGIN:VEVENT
DTSTART;TZID=America/New_York:20080927T000000
DTEND;TZID=America/New_York:20080927T000000
DTSTAMP:20260424T061112
CREATED:20220216T013220Z
LAST-MODIFIED:20220216T013220Z
UID:314-1222473600-1222473600@www.austria-boston.org
SUMMARY:Annual Heuriger
DESCRIPTION:Flyer: A-AA-2008-09-27-Heurigen-AustrianFallFestival.pdf
URL:https://www.austria-boston.org/event/annual-heuriger-2/
CATEGORIES:A-AA Sponsored
END:VEVENT
BEGIN:VEVENT
DTSTART;TZID=America/New_York:20080714T000000
DTEND;TZID=America/New_York:20080714T000000
DTSTAMP:20260424T061112
CREATED:20220216T013419Z
LAST-MODIFIED:20220216T013419Z
UID:317-1215993600-1215993600@www.austria-boston.org
SUMMARY:Newport Concert
DESCRIPTION:Flyer: A-AA2008-07-14-NewportConcert.pdf
URL:https://www.austria-boston.org/event/newport-concert/
CATEGORIES:A-AA Sponsored
END:VEVENT
BEGIN:VEVENT
DTSTART;TZID=America/New_York:20080607T000000
DTEND;TZID=America/New_York:20080607T000000
DTSTAMP:20260424T061112
CREATED:20220216T013420Z
LAST-MODIFIED:20220216T013420Z
UID:318-1212796800-1212796800@www.austria-boston.org
SUMMARY:Annual Dinner and Election
DESCRIPTION:Flyer: A-AA2008-06-07-08-AnnualDinner.pdf
URL:https://www.austria-boston.org/event/annual-dinner-and-election/
CATEGORIES:A-AA Sponsored
END:VEVENT
BEGIN:VEVENT
DTSTART;TZID=America/New_York:20080516T000000
DTEND;TZID=America/New_York:20080516T000000
DTSTAMP:20260424T061112
CREATED:20220216T013420Z
LAST-MODIFIED:20220216T013420Z
UID:319-1210896000-1210896000@www.austria-boston.org
SUMMARY:Stammtisch at Acker's (6:30pm\, 67 Bridle Path\, Sudbury)
DESCRIPTION:
URL:https://www.austria-boston.org/event/stammtisch-at-ackers-630pm-67-bridle-path-sudbury-2/
CATEGORIES:A-AA Sponsored
END:VEVENT
BEGIN:VEVENT
DTSTART;TZID=America/New_York:20080404T000000
DTEND;TZID=America/New_York:20080404T000000
DTSTAMP:20260424T061112
CREATED:20220216T013620Z
LAST-MODIFIED:20220216T013620Z
UID:323-1207267200-1207267200@www.austria-boston.org
SUMMARY:Stammtisch at Acker's (6:30pm\, 67 Bridle Path\, Sudbury)
DESCRIPTION:
URL:https://www.austria-boston.org/event/stammtisch-at-ackers-630pm-67-bridle-path-sudbury-3/
CATEGORIES:A-AA Sponsored
END:VEVENT
BEGIN:VEVENT
DTSTART;TZID=America/New_York:20080315T000000
DTEND;TZID=America/New_York:20080315T000000
DTSTAMP:20260424T061112
CREATED:20220216T013620Z
LAST-MODIFIED:20220216T013620Z
UID:324-1205539200-1205539200@www.austria-boston.org
SUMMARY:Strauss Ball at the Boylston Schulverein\, Walpole
DESCRIPTION:Flyer: A-AA-2008-03-15-StraussBallatBSV.pdf
URL:https://www.austria-boston.org/event/strauss-ball-at-the-boylston-schulverein-walpole/
CATEGORIES:A-AA Sponsored
END:VEVENT
BEGIN:VEVENT
DTSTART;TZID=America/New_York:20080301T000000
DTEND;TZID=America/New_York:20080301T000000
DTSTAMP:20260424T061112
CREATED:20220216T013700Z
LAST-MODIFIED:20220216T013700Z
UID:327-1204329600-1204329600@www.austria-boston.org
SUMMARY:Lehar's The Merry Widow
DESCRIPTION:Flyer: A-AA2007-10-13OtherEvents.pdf
URL:https://www.austria-boston.org/event/lehars-the-merry-widow/
CATEGORIES:A-AA Sponsored
END:VEVENT
BEGIN:VEVENT
DTSTART;TZID=America/New_York:20080209T000000
DTEND;TZID=America/New_York:20080209T000000
DTSTAMP:20260424T061112
CREATED:20220216T013701Z
LAST-MODIFIED:20220216T013701Z
UID:329-1202515200-1202515200@www.austria-boston.org
SUMMARY:Dinner Dance of the Czech MASARYK Club (Sons of Italy Hall\, Woburn)
DESCRIPTION:
URL:https://www.austria-boston.org/event/dinner-dance-of-the-czech-masaryk-club-sons-of-italy-hall-woburn/
CATEGORIES:A-AA Sponsored
END:VEVENT
END:VCALENDAR