BEGIN:VCALENDAR
VERSION:2.0
PRODID:-//Austro-American Association of Boston - ECPv6.15.20//NONSGML v1.0//EN
CALSCALE:GREGORIAN
METHOD:PUBLISH
X-WR-CALNAME:Austro-American Association of Boston
X-ORIGINAL-URL:https://www.austria-boston.org
X-WR-CALDESC:Events for Austro-American Association of Boston
REFRESH-INTERVAL;VALUE=DURATION:PT1H
X-Robots-Tag:noindex
X-PUBLISHED-TTL:PT1H
BEGIN:VTIMEZONE
TZID:America/New_York
BEGIN:DAYLIGHT
TZOFFSETFROM:-0500
TZOFFSETTO:-0400
TZNAME:EDT
DTSTART:20170312T070000
END:DAYLIGHT
BEGIN:STANDARD
TZOFFSETFROM:-0400
TZOFFSETTO:-0500
TZNAME:EST
DTSTART:20171105T060000
END:STANDARD
BEGIN:DAYLIGHT
TZOFFSETFROM:-0500
TZOFFSETTO:-0400
TZNAME:EDT
DTSTART:20180311T070000
END:DAYLIGHT
BEGIN:STANDARD
TZOFFSETFROM:-0400
TZOFFSETTO:-0500
TZNAME:EST
DTSTART:20181104T060000
END:STANDARD
BEGIN:DAYLIGHT
TZOFFSETFROM:-0500
TZOFFSETTO:-0400
TZNAME:EDT
DTSTART:20190310T070000
END:DAYLIGHT
BEGIN:STANDARD
TZOFFSETFROM:-0400
TZOFFSETTO:-0500
TZNAME:EST
DTSTART:20191103T060000
END:STANDARD
BEGIN:DAYLIGHT
TZOFFSETFROM:-0500
TZOFFSETTO:-0400
TZNAME:EDT
DTSTART:20200308T070000
END:DAYLIGHT
BEGIN:STANDARD
TZOFFSETFROM:-0400
TZOFFSETTO:-0500
TZNAME:EST
DTSTART:20201101T060000
END:STANDARD
BEGIN:DAYLIGHT
TZOFFSETFROM:-0500
TZOFFSETTO:-0400
TZNAME:EDT
DTSTART:20210314T070000
END:DAYLIGHT
BEGIN:STANDARD
TZOFFSETFROM:-0400
TZOFFSETTO:-0500
TZNAME:EST
DTSTART:20211107T060000
END:STANDARD
BEGIN:DAYLIGHT
TZOFFSETFROM:-0500
TZOFFSETTO:-0400
TZNAME:EDT
DTSTART:20220313T070000
END:DAYLIGHT
BEGIN:STANDARD
TZOFFSETFROM:-0400
TZOFFSETTO:-0500
TZNAME:EST
DTSTART:20221106T060000
END:STANDARD
BEGIN:DAYLIGHT
TZOFFSETFROM:-0500
TZOFFSETTO:-0400
TZNAME:EDT
DTSTART:20230312T070000
END:DAYLIGHT
BEGIN:STANDARD
TZOFFSETFROM:-0400
TZOFFSETTO:-0500
TZNAME:EST
DTSTART:20231105T060000
END:STANDARD
BEGIN:DAYLIGHT
TZOFFSETFROM:-0500
TZOFFSETTO:-0400
TZNAME:EDT
DTSTART:20240310T070000
END:DAYLIGHT
BEGIN:STANDARD
TZOFFSETFROM:-0400
TZOFFSETTO:-0500
TZNAME:EST
DTSTART:20241103T060000
END:STANDARD
BEGIN:DAYLIGHT
TZOFFSETFROM:-0500
TZOFFSETTO:-0400
TZNAME:EDT
DTSTART:20250309T070000
END:DAYLIGHT
BEGIN:STANDARD
TZOFFSETFROM:-0400
TZOFFSETTO:-0500
TZNAME:EST
DTSTART:20251102T060000
END:STANDARD
BEGIN:DAYLIGHT
TZOFFSETFROM:-0500
TZOFFSETTO:-0400
TZNAME:EDT
DTSTART:20260308T070000
END:DAYLIGHT
BEGIN:STANDARD
TZOFFSETFROM:-0400
TZOFFSETTO:-0500
TZNAME:EST
DTSTART:20261101T060000
END:STANDARD
END:VTIMEZONE
BEGIN:VEVENT
DTSTART;TZID=America/New_York:20250622T170000
DTEND;TZID=America/New_York:20250622T210000
DTSTAMP:20260423T151109
CREATED:20250202T184350Z
LAST-MODIFIED:20250522T214001Z
UID:1139-1750611600-1750626000@www.austria-boston.org
SUMMARY:The Austro-American Association Annual Dinner and Meeting
DESCRIPTION:Download Link for the flyer: https://www.austria-boston.org/wp-content/uploads/flyers/A-AA%202025-06-22%20Annual%20Dinner%20-%20Flyer%20.pdf
URL:https://www.austria-boston.org/event/the-austro-american-association-annual-dinner-and-meeting/
LOCATION:Bullfinchs Restaurant & Catering\, 730 Boston Post Road\, Sudbury\, MA\, MA\, 01776\, United States
CATEGORIES:A-AA Sponsored
END:VEVENT
BEGIN:VEVENT
DTSTART;TZID=America/New_York:20231209T080000
DTEND;TZID=America/New_York:20231209T170000
DTSTAMP:20260423T151109
CREATED:20231116T030843Z
LAST-MODIFIED:20231116T031522Z
UID:1071-1702108800-1702141200@www.austria-boston.org
SUMMARY:Christmas Celebration
DESCRIPTION:At the Historic Longfellow’s Wayside Inn! \nPlease call and send your reservations and check (to A-AA) by Monday\, November 27\nto Traude Schieber-Acker\, 34 Cutting Cross Way\, Wayland MA 01778 tel. 978.579.2191 \n  \nDinner Entrée choices: \n\nRoast Half Duckling\nBaked Boston Scrod.\nRoast Prime Rib of Beef\n\nDessert choices: \n\nChocolate Ganache Cake w. Walnuts\nBaked Indian Pudding\n\nDownload the Event Flyer
URL:https://www.austria-boston.org/event/christmas-celebration-10/
LOCATION:The Wayside Inn\, 72 Boston Post Road (Route 20)\, Sudbury\, MA\, 01776\, United States
CATEGORIES:A-AA Sponsored
END:VEVENT
BEGIN:VEVENT
DTSTART;TZID=America/New_York:20230930T170000
DTEND;TZID=America/New_York:20230930T220000
DTSTAMP:20260423T151109
CREATED:20230311T232527Z
LAST-MODIFIED:20230905T013600Z
UID:1048-1696093200-1696111200@www.austria-boston.org
SUMMARY:Annual Heuriger
DESCRIPTION:Flyer with event details
URL:https://www.austria-boston.org/event/annual-heuriger-3/
LOCATION:The Donners\, 92 Green Street\, Medfield\, 02052
CATEGORIES:A-AA Sponsored
END:VEVENT
BEGIN:VEVENT
DTSTART;TZID=America/New_York:20230617T170000
DTEND;TZID=America/New_York:20230617T210000
DTSTAMP:20260423T151109
CREATED:20230311T232409Z
LAST-MODIFIED:20230516T032121Z
UID:1046-1687021200-1687035600@www.austria-boston.org
SUMMARY:Annual Dinner and Meeting
DESCRIPTION:SATURDAY\, JUNE 17\, 2023\, at 5:00 pm\nat the Historic Wayside Inn\n72 Boston Post Road (Route 20) Sudbury\, MA 01776 \nGet the Flyer
URL:https://www.austria-boston.org/event/1046/
LOCATION:The Wayside Inn\, 72 Boston Post Road (Route 20)\, Sudbury\, MA\, 01776\, United States
CATEGORIES:A-AA Sponsored
ATTACH;FMTTYPE=image/png:https://www.austria-boston.org/wp-content/uploads/flag.png
END:VEVENT
BEGIN:VEVENT
DTSTART;TZID=America/New_York:20230325T143000
DTEND;TZID=America/New_York:20230325T170000
DTSTAMP:20260423T151109
CREATED:20230311T232134Z
LAST-MODIFIED:20230311T232818Z
UID:1041-1679754600-1679763600@www.austria-boston.org
SUMMARY:It Takes Two to “Duet”
DESCRIPTION:Presentation by Erika Reitshamer.\nDuets from opera\, operetta and instrumental music.
URL:https://www.austria-boston.org/event/it-takes-two-to-duet/
LOCATION:Wayland Free Public Library\, 5 Concord Road\, Wayland\, MA\, 01778\, United States
CATEGORIES:A-AA Sponsored
END:VEVENT
BEGIN:VEVENT
DTSTART;TZID=America/New_York:20220626T170000
DTEND;TZID=America/New_York:20220626T210000
DTSTAMP:20260423T151110
CREATED:20220325T222428Z
LAST-MODIFIED:20220527T021704Z
UID:941-1656262800-1656277200@www.austria-boston.org
SUMMARY:Annual Dinner
DESCRIPTION:The A-AA \nANNUAL DINNER  \nand Meeting will be on \nSUNDAY\, JUNE 26\, at 5:00 pm at \nBULLFINCHS RESTAURANT  \n730 BOSTON POST RD (ROUTE 20)\, SUDBURY\, MA 01776  \nIf you have any questions\, please contact Traude at \ntraude@austia-boston.org or 978-579-2191 \n  \nA-AA 2022-06-26 Annual Dinner – Flyer \n 
URL:https://www.austria-boston.org/event/annual-dinner-2/
LOCATION:Bullfinchs Restaurant & Catering\, 730 Boston Post Road\, Sudbury\, MA\, MA\, 01776\, United States
CATEGORIES:A-AA Sponsored
END:VEVENT
BEGIN:VEVENT
DTSTART;TZID=America/New_York:20220422T170000
DTEND;TZID=America/New_York:20220422T190000
DTSTAMP:20260423T151110
CREATED:20220302T171837Z
LAST-MODIFIED:20220421T005551Z
UID:909-1650646800-1650654000@www.austria-boston.org
SUMMARY:The influence of Vienna at the turn of the century on film:  an international legacy
DESCRIPTION:Maxfield Fulton is our Scholarship Recipient from 2019 and he is at Yale University and\nis in the process of getting his PHD. \nMaxfield’s dissertation at Yale University focused on the title subject of this presentation. \nThe selection of his dissertation topic was based largely on his personal interest in Vienna‘s cultural\, intellectual\, and artistic history and their influence on films internationally from 1900 to present. \nMaxfield will support the presentation of his research findings with several film clips. There are so many interesting aspects of his presentation\, and we are sure all who attend will find this lecture remarkable and very informative. \nDownload the program PDF in support of the presentation: A-AA Fulton Presentation Program
URL:https://www.austria-boston.org/event/turn-of-the-century-vienna-on-film-an-international-legacy/
LOCATION:Online
CATEGORIES:A-AA Sponsored
ATTACH;FMTTYPE=image/png:https://www.austria-boston.org/wp-content/uploads/zoom-feature-december-2020.png
END:VEVENT
BEGIN:VEVENT
DTSTART;TZID=America/New_York:20220318T170000
DTEND;TZID=America/New_York:20220318T190000
DTSTAMP:20260423T151110
CREATED:20220302T171711Z
LAST-MODIFIED:20220316T210718Z
UID:907-1647622800-1647630000@www.austria-boston.org
SUMMARY:The Gypsy Princess (Die Csardasfuerstin) from Emmerich Kálmán
DESCRIPTION:The Gypsy Princess (Die Csardasfuerstin) from Emmerich Kálmán presented by Erika Reitshamer\, an engaging lecturer whose knowledge and love\nof opera is inspiring. She will talk about the Operetta and show excerpts. \nFlyer: A-AA 2022-03-18 – Die Csardasfuerstin – Erika Zoom
URL:https://www.austria-boston.org/event/the-gypsy-princess-die-csardasfuerstin-from-emmerich-kalman/
LOCATION:Online
CATEGORIES:A-AA Sponsored
ATTACH;FMTTYPE=image/png:https://www.austria-boston.org/wp-content/uploads/zoom-feature-december-2020.png
END:VEVENT
BEGIN:VEVENT
DTSTART;TZID=America/New_York:20220219T170000
DTEND;TZID=America/New_York:20220219T190000
DTSTAMP:20260423T151110
CREATED:20220211T021301Z
LAST-MODIFIED:20220217T023740Z
UID:118-1645290000-1645297200@www.austria-boston.org
SUMMARY:Zoom Chat
DESCRIPTION:Hang out with your A-AA friends virtually.
URL:https://www.austria-boston.org/event/zoom-chat/
LOCATION:Online
CATEGORIES:A-AA Sponsored
ATTACH;FMTTYPE=image/png:https://www.austria-boston.org/wp-content/uploads/zoom-feature-december-2020-1.png
END:VEVENT
BEGIN:VEVENT
DTSTART;TZID=America/New_York:20211219T000000
DTEND;TZID=America/New_York:20211219T000000
DTSTAMP:20260423T151110
CREATED:20220216T005726Z
LAST-MODIFIED:20220216T202632Z
UID:174-1639872000-1639872000@www.austria-boston.org
SUMMARY:Christmas Celebration at the Boylston Schulverein
DESCRIPTION:Flyer: A-AA 2021-12-19-Christmas-Celebration-BSV.pdf
URL:https://www.austria-boston.org/event/christmas-celebration-at-the-boylston-schulverein/
LOCATION:MA
CATEGORIES:A-AA Sponsored
END:VEVENT
BEGIN:VEVENT
DTSTART;TZID=America/New_York:20200620T000000
DTEND;TZID=America/New_York:20200620T000000
DTSTAMP:20260423T151110
CREATED:20220216T005726Z
LAST-MODIFIED:20220216T005726Z
UID:175-1592611200-1592611200@www.austria-boston.org
SUMMARY:CANCELLED! Annual Dinner
DESCRIPTION:
URL:https://www.austria-boston.org/event/cancelled-annual-dinner/
LOCATION:MA
CATEGORIES:A-AA Sponsored
END:VEVENT
BEGIN:VEVENT
DTSTART;TZID=America/New_York:20200524T000000
DTEND;TZID=America/New_York:20200524T000000
DTSTAMP:20260423T151110
CREATED:20220216T005726Z
LAST-MODIFIED:20220216T005726Z
UID:176-1590278400-1590278400@www.austria-boston.org
SUMMARY:CANCELLED! Scholarship Recipient Maxfield Fulton: "The Austrian Influence on the International Cinema from 1900" at the BSV in Walpole
DESCRIPTION:
URL:https://www.austria-boston.org/event/cancelled-scholarship-recipient-maxfield-fulton-the-austrian-influence-on-the-international-cinema-from-1900-at-the-bsv-in-walpole/
LOCATION:MA
CATEGORIES:A-AA Sponsored
END:VEVENT
BEGIN:VEVENT
DTSTART;TZID=America/New_York:20200425T000000
DTEND;TZID=America/New_York:20200425T000000
DTSTAMP:20260423T151110
CREATED:20220216T005727Z
LAST-MODIFIED:20220216T005727Z
UID:177-1587772800-1587772800@www.austria-boston.org
SUMMARY:CANCELLED! Chamber music concert of Austrian composers with  Rebecca Thornblade and friends
DESCRIPTION:
URL:https://www.austria-boston.org/event/cancelled-chamber-music-concert-of-austrian-composers-with-rebecca-thornblade-and-friends/
LOCATION:MA
CATEGORIES:A-AA Sponsored
END:VEVENT
BEGIN:VEVENT
DTSTART;TZID=America/New_York:20200328T000000
DTEND;TZID=America/New_York:20200328T000000
DTSTAMP:20260423T151110
CREATED:20220216T005727Z
LAST-MODIFIED:20220216T005727Z
UID:178-1585353600-1585353600@www.austria-boston.org
SUMMARY:CANCELLED: Stammtisch at Traude and David Acker's home (5:00pm)
DESCRIPTION:
URL:https://www.austria-boston.org/event/cancelled-stammtisch-at-traude-and-david-ackers-home-500pm/
LOCATION:MA
CATEGORIES:A-AA Sponsored
END:VEVENT
BEGIN:VEVENT
DTSTART;TZID=America/New_York:20200229T000000
DTEND;TZID=America/New_York:20200229T000000
DTSTAMP:20260423T151110
CREATED:20220216T005728Z
LAST-MODIFIED:20220216T005728Z
UID:179-1582934400-1582934400@www.austria-boston.org
SUMMARY:Austrian Movie Night at the Donner's (4pm!)
DESCRIPTION:Flyer: A-AA-2020-02-29-MovieNight.pdf
URL:https://www.austria-boston.org/event/austrian-movie-night-at-the-donners-4pm/
LOCATION:MA
CATEGORIES:A-AA Sponsored
END:VEVENT
BEGIN:VEVENT
DTSTART;TZID=America/New_York:20191221T000000
DTEND;TZID=America/New_York:20191221T000000
DTSTAMP:20260423T151110
CREATED:20220216T005729Z
LAST-MODIFIED:20220216T005729Z
UID:181-1576886400-1576886400@www.austria-boston.org
SUMMARY:Christmas Celebration at the BSV (German Club) in Walpole\, MA (4pm)
DESCRIPTION:Flyer: A-AA-2019-12-21-ChristmasBSV.pdf
URL:https://www.austria-boston.org/event/christmas-celebration-at-the-bsv-german-club-in-walpole-ma-4pm/
LOCATION:MA
CATEGORIES:A-AA Sponsored
END:VEVENT
BEGIN:VEVENT
DTSTART;TZID=America/New_York:20191012T000000
DTEND;TZID=America/New_York:20191012T000000
DTSTAMP:20260423T151110
CREATED:20220216T005729Z
LAST-MODIFIED:20220216T005729Z
UID:183-1570838400-1570838400@www.austria-boston.org
SUMMARY:The 75th Anniversary Celebration of the A-AA at St. Julia's Parish in Weston (4:30pm)
DESCRIPTION:Flyer: A-AA-2019-10-12-75th-Anniversary.pdf
URL:https://www.austria-boston.org/event/the-75th-anniversary-celebration-of-the-a-aa-at-st-julias-parish-in-weston-430pm/
LOCATION:MA
CATEGORIES:A-AA Sponsored
END:VEVENT
BEGIN:VEVENT
DTSTART;TZID=America/New_York:20190907T000000
DTEND;TZID=America/New_York:20190907T000000
DTSTAMP:20260423T151110
CREATED:20220216T005743Z
LAST-MODIFIED:20220216T005743Z
UID:184-1567814400-1567814400@www.austria-boston.org
SUMMARY:Annual Heuriger at Christian and Pamela Donner (4:30pm)
DESCRIPTION:Flyer: A-AA-2019-09-07-Heurigen.pdf
URL:https://www.austria-boston.org/event/annual-heuriger-at-christian-and-pamela-donner-430pm/
LOCATION:MA
CATEGORIES:A-AA Sponsored
END:VEVENT
BEGIN:VEVENT
DTSTART;TZID=America/New_York:20190608T000000
DTEND;TZID=America/New_York:20190608T000000
DTSTAMP:20260423T151110
CREATED:20220216T005744Z
LAST-MODIFIED:20220216T005744Z
UID:185-1559952000-1559952000@www.austria-boston.org
SUMMARY:A-AA Annual Dinner at the Wayside Inn in Sudbury
DESCRIPTION:Flyer: A-AA-2019-06-08-AnnualDinner.pdf
URL:https://www.austria-boston.org/event/a-aa-annual-dinner-at-the-wayside-inn-in-sudbury/
LOCATION:MA
CATEGORIES:A-AA Sponsored
END:VEVENT
BEGIN:VEVENT
DTSTART;TZID=America/New_York:20190511T000000
DTEND;TZID=America/New_York:20190511T000000
DTSTAMP:20260423T151110
CREATED:20220216T005744Z
LAST-MODIFIED:20220216T005744Z
UID:186-1557532800-1557532800@www.austria-boston.org
SUMMARY:"Night Music” Ensemble Presentation (At Gwendoline Thornblade’s home in Newton)
DESCRIPTION:Flyer: A-AA-2019-05-11-StevenZohn.pdf
URL:https://www.austria-boston.org/event/night-music-ensemble-presentation-at-gwendoline-thornblades-home-in-newton/
LOCATION:MA
CATEGORIES:A-AA Sponsored
END:VEVENT
BEGIN:VEVENT
DTSTART;TZID=America/New_York:20190406T000000
DTEND;TZID=America/New_York:20190406T000000
DTSTAMP:20260423T151110
CREATED:20220216T005744Z
LAST-MODIFIED:20220216T005744Z
UID:187-1554508800-1554508800@www.austria-boston.org
SUMMARY:An Evening of Classic Songs and Arias from Europe and the USA
DESCRIPTION:Flyer: A-AA2019-04-06-Concert.pdf
URL:https://www.austria-boston.org/event/an-evening-of-classic-songs-and-arias-from-europe-and-the-usa/
LOCATION:MA
CATEGORIES:A-AA Sponsored
END:VEVENT
BEGIN:VEVENT
DTSTART;TZID=America/New_York:20190209T000000
DTEND;TZID=America/New_York:20190209T000000
DTSTAMP:20260423T151110
CREATED:20220216T005744Z
LAST-MODIFIED:20220216T005744Z
UID:188-1549670400-1549670400@www.austria-boston.org
SUMMARY:Austrian Movie Night at the Donners
DESCRIPTION:Flyer: A-AA-2019-02-09-MovieNight.pdf
URL:https://www.austria-boston.org/event/austrian-movie-night-at-the-donners/
LOCATION:MA
CATEGORIES:A-AA Sponsored
END:VEVENT
BEGIN:VEVENT
DTSTART;TZID=America/New_York:20190104T000000
DTEND;TZID=America/New_York:20190104T000000
DTSTAMP:20260423T151110
CREATED:20220216T005759Z
LAST-MODIFIED:20220216T005759Z
UID:189-1546560000-1546560000@www.austria-boston.org
SUMMARY:Salute to Vienna - Concert at Boston Symphony Hall
DESCRIPTION:
URL:https://www.austria-boston.org/event/salute-to-vienna-concert-at-boston-symphony-hall/
LOCATION:MA
CATEGORIES:A-AA Sponsored
END:VEVENT
BEGIN:VEVENT
DTSTART;TZID=America/New_York:20181214T000000
DTEND;TZID=America/New_York:20181214T000000
DTSTAMP:20260423T151110
CREATED:20220216T005759Z
LAST-MODIFIED:20220216T005759Z
UID:190-1544745600-1544745600@www.austria-boston.org
SUMMARY:Christmas Celebration at the Boylston Schulverein in Walpole.
DESCRIPTION:Flyer: A-AA-2018-12-14-ChristmasCelebration.pdf
URL:https://www.austria-boston.org/event/christmas-celebration-at-the-boylston-schulverein-in-walpole/
LOCATION:MA
CATEGORIES:A-AA Sponsored
END:VEVENT
BEGIN:VEVENT
DTSTART;TZID=America/New_York:20181103T000000
DTEND;TZID=America/New_York:20181103T000000
DTSTAMP:20260423T151110
CREATED:20220216T005759Z
LAST-MODIFIED:20220216T005759Z
UID:191-1541203200-1541203200@www.austria-boston.org
SUMMARY:Stammtisch at Ackers' Home in Wayland
DESCRIPTION:
URL:https://www.austria-boston.org/event/stammtisch-at-ackers-home-in-wayland/
LOCATION:MA
CATEGORIES:A-AA Sponsored
END:VEVENT
BEGIN:VEVENT
DTSTART;TZID=America/New_York:20180929T000000
DTEND;TZID=America/New_York:20180929T000000
DTSTAMP:20260423T151110
CREATED:20220216T005759Z
LAST-MODIFIED:20220216T005759Z
UID:192-1538179200-1538179200@www.austria-boston.org
SUMMARY:Annual Heuriger at the Donners in Medfield
DESCRIPTION:Flyer: A-AA-2018-09-29-Heurigen.pdf
URL:https://www.austria-boston.org/event/annual-heuriger-at-the-donners-in-medfield/
LOCATION:MA
CATEGORIES:A-AA Sponsored
END:VEVENT
BEGIN:VEVENT
DTSTART;TZID=America/New_York:20180602T000000
DTEND;TZID=America/New_York:20180602T000000
DTSTAMP:20260423T151110
CREATED:20220216T005759Z
LAST-MODIFIED:20220216T005759Z
UID:193-1527897600-1527897600@www.austria-boston.org
SUMMARY:A-AA Annual Dinner at the Wayside Inn\, Sudbury\, MA
DESCRIPTION:Flyer: A-AA-2018-06-02-AnnualDinner.pdf
URL:https://www.austria-boston.org/event/a-aa-annual-dinner-at-the-wayside-inn-sudbury-ma/
LOCATION:MA
CATEGORIES:A-AA Sponsored
END:VEVENT
BEGIN:VEVENT
DTSTART;TZID=America/New_York:20180505T000000
DTEND;TZID=America/New_York:20180505T000000
DTSTAMP:20260423T151110
CREATED:20220216T005813Z
LAST-MODIFIED:20220216T005813Z
UID:194-1525478400-1525478400@www.austria-boston.org
SUMMARY:Stammtisch at Judith Zohn's home in Newton.
DESCRIPTION:
URL:https://www.austria-boston.org/event/stammtisch-at-judith-zohns-home-in-newton/
LOCATION:MA
CATEGORIES:A-AA Sponsored
END:VEVENT
BEGIN:VEVENT
DTSTART;TZID=America/New_York:20180407T000000
DTEND;TZID=America/New_York:20180407T000000
DTSTAMP:20260423T151110
CREATED:20220216T005814Z
LAST-MODIFIED:20220216T005814Z
UID:195-1523059200-1523059200@www.austria-boston.org
SUMMARY:Musical Event at Gwendoline Thornblade's home in Newton
DESCRIPTION:Flyer: A-AA-2018-04-07-PianoRecitalatGwendoline.pdf
URL:https://www.austria-boston.org/event/musical-event-at-gwendoline-thornblades-home-in-newton/
LOCATION:MA
CATEGORIES:A-AA Sponsored
END:VEVENT
BEGIN:VEVENT
DTSTART;TZID=America/New_York:20180303T000000
DTEND;TZID=America/New_York:20180303T000000
DTSTAMP:20260423T151110
CREATED:20220216T005814Z
LAST-MODIFIED:20220216T005814Z
UID:196-1520035200-1520035200@www.austria-boston.org
SUMMARY:Movie Night at the Donners
DESCRIPTION:Flyer: A-AA2018-03-03-MovieNight.pdf
URL:https://www.austria-boston.org/event/movie-night-at-the-donners/
LOCATION:MA
CATEGORIES:A-AA Sponsored
END:VEVENT
END:VCALENDAR