BEGIN:VCALENDAR
VERSION:2.0
PRODID:-//Austro-American Association of Boston - ECPv6.15.20//NONSGML v1.0//EN
CALSCALE:GREGORIAN
METHOD:PUBLISH
X-WR-CALNAME:Austro-American Association of Boston
X-ORIGINAL-URL:https://www.austria-boston.org
X-WR-CALDESC:Events for Austro-American Association of Boston
REFRESH-INTERVAL;VALUE=DURATION:PT1H
X-Robots-Tag:noindex
X-PUBLISHED-TTL:PT1H
BEGIN:VTIMEZONE
TZID:America/New_York
BEGIN:DAYLIGHT
TZOFFSETFROM:-0500
TZOFFSETTO:-0400
TZNAME:EDT
DTSTART:20050403T070000
END:DAYLIGHT
BEGIN:STANDARD
TZOFFSETFROM:-0400
TZOFFSETTO:-0500
TZNAME:EST
DTSTART:20051030T060000
END:STANDARD
BEGIN:DAYLIGHT
TZOFFSETFROM:-0500
TZOFFSETTO:-0400
TZNAME:EDT
DTSTART:20060402T070000
END:DAYLIGHT
BEGIN:STANDARD
TZOFFSETFROM:-0400
TZOFFSETTO:-0500
TZNAME:EST
DTSTART:20061029T060000
END:STANDARD
BEGIN:DAYLIGHT
TZOFFSETFROM:-0500
TZOFFSETTO:-0400
TZNAME:EDT
DTSTART:20070311T070000
END:DAYLIGHT
BEGIN:STANDARD
TZOFFSETFROM:-0400
TZOFFSETTO:-0500
TZNAME:EST
DTSTART:20071104T060000
END:STANDARD
BEGIN:DAYLIGHT
TZOFFSETFROM:-0500
TZOFFSETTO:-0400
TZNAME:EDT
DTSTART:20080309T070000
END:DAYLIGHT
BEGIN:STANDARD
TZOFFSETFROM:-0400
TZOFFSETTO:-0500
TZNAME:EST
DTSTART:20081102T060000
END:STANDARD
BEGIN:DAYLIGHT
TZOFFSETFROM:-0500
TZOFFSETTO:-0400
TZNAME:EDT
DTSTART:20090308T070000
END:DAYLIGHT
BEGIN:STANDARD
TZOFFSETFROM:-0400
TZOFFSETTO:-0500
TZNAME:EST
DTSTART:20091101T060000
END:STANDARD
BEGIN:DAYLIGHT
TZOFFSETFROM:-0500
TZOFFSETTO:-0400
TZNAME:EDT
DTSTART:20100314T070000
END:DAYLIGHT
BEGIN:STANDARD
TZOFFSETFROM:-0400
TZOFFSETTO:-0500
TZNAME:EST
DTSTART:20101107T060000
END:STANDARD
BEGIN:DAYLIGHT
TZOFFSETFROM:-0500
TZOFFSETTO:-0400
TZNAME:EDT
DTSTART:20110313T070000
END:DAYLIGHT
BEGIN:STANDARD
TZOFFSETFROM:-0400
TZOFFSETTO:-0500
TZNAME:EST
DTSTART:20111106T060000
END:STANDARD
BEGIN:DAYLIGHT
TZOFFSETFROM:-0500
TZOFFSETTO:-0400
TZNAME:EDT
DTSTART:20120311T070000
END:DAYLIGHT
BEGIN:STANDARD
TZOFFSETFROM:-0400
TZOFFSETTO:-0500
TZNAME:EST
DTSTART:20121104T060000
END:STANDARD
BEGIN:DAYLIGHT
TZOFFSETFROM:-0500
TZOFFSETTO:-0400
TZNAME:EDT
DTSTART:20130310T070000
END:DAYLIGHT
BEGIN:STANDARD
TZOFFSETFROM:-0400
TZOFFSETTO:-0500
TZNAME:EST
DTSTART:20131103T060000
END:STANDARD
BEGIN:DAYLIGHT
TZOFFSETFROM:-0500
TZOFFSETTO:-0400
TZNAME:EDT
DTSTART:20140309T070000
END:DAYLIGHT
BEGIN:STANDARD
TZOFFSETFROM:-0400
TZOFFSETTO:-0500
TZNAME:EST
DTSTART:20141102T060000
END:STANDARD
BEGIN:DAYLIGHT
TZOFFSETFROM:-0500
TZOFFSETTO:-0400
TZNAME:EDT
DTSTART:20150308T070000
END:DAYLIGHT
BEGIN:STANDARD
TZOFFSETFROM:-0400
TZOFFSETTO:-0500
TZNAME:EST
DTSTART:20151101T060000
END:STANDARD
BEGIN:DAYLIGHT
TZOFFSETFROM:-0500
TZOFFSETTO:-0400
TZNAME:EDT
DTSTART:20160313T070000
END:DAYLIGHT
BEGIN:STANDARD
TZOFFSETFROM:-0400
TZOFFSETTO:-0500
TZNAME:EST
DTSTART:20161106T060000
END:STANDARD
BEGIN:DAYLIGHT
TZOFFSETFROM:-0500
TZOFFSETTO:-0400
TZNAME:EDT
DTSTART:20170312T070000
END:DAYLIGHT
BEGIN:STANDARD
TZOFFSETFROM:-0400
TZOFFSETTO:-0500
TZNAME:EST
DTSTART:20171105T060000
END:STANDARD
BEGIN:DAYLIGHT
TZOFFSETFROM:-0500
TZOFFSETTO:-0400
TZNAME:EDT
DTSTART:20180311T070000
END:DAYLIGHT
BEGIN:STANDARD
TZOFFSETFROM:-0400
TZOFFSETTO:-0500
TZNAME:EST
DTSTART:20181104T060000
END:STANDARD
BEGIN:DAYLIGHT
TZOFFSETFROM:-0500
TZOFFSETTO:-0400
TZNAME:EDT
DTSTART:20190310T070000
END:DAYLIGHT
BEGIN:STANDARD
TZOFFSETFROM:-0400
TZOFFSETTO:-0500
TZNAME:EST
DTSTART:20191103T060000
END:STANDARD
BEGIN:DAYLIGHT
TZOFFSETFROM:-0500
TZOFFSETTO:-0400
TZNAME:EDT
DTSTART:20200308T070000
END:DAYLIGHT
BEGIN:STANDARD
TZOFFSETFROM:-0400
TZOFFSETTO:-0500
TZNAME:EST
DTSTART:20201101T060000
END:STANDARD
BEGIN:DAYLIGHT
TZOFFSETFROM:-0500
TZOFFSETTO:-0400
TZNAME:EDT
DTSTART:20210314T070000
END:DAYLIGHT
BEGIN:STANDARD
TZOFFSETFROM:-0400
TZOFFSETTO:-0500
TZNAME:EST
DTSTART:20211107T060000
END:STANDARD
BEGIN:DAYLIGHT
TZOFFSETFROM:-0500
TZOFFSETTO:-0400
TZNAME:EDT
DTSTART:20220313T070000
END:DAYLIGHT
BEGIN:STANDARD
TZOFFSETFROM:-0400
TZOFFSETTO:-0500
TZNAME:EST
DTSTART:20221106T060000
END:STANDARD
BEGIN:DAYLIGHT
TZOFFSETFROM:-0500
TZOFFSETTO:-0400
TZNAME:EDT
DTSTART:20230312T070000
END:DAYLIGHT
BEGIN:STANDARD
TZOFFSETFROM:-0400
TZOFFSETTO:-0500
TZNAME:EST
DTSTART:20231105T060000
END:STANDARD
BEGIN:DAYLIGHT
TZOFFSETFROM:-0500
TZOFFSETTO:-0400
TZNAME:EDT
DTSTART:20240310T070000
END:DAYLIGHT
BEGIN:STANDARD
TZOFFSETFROM:-0400
TZOFFSETTO:-0500
TZNAME:EST
DTSTART:20241103T060000
END:STANDARD
BEGIN:DAYLIGHT
TZOFFSETFROM:-0500
TZOFFSETTO:-0400
TZNAME:EDT
DTSTART:20250309T070000
END:DAYLIGHT
BEGIN:STANDARD
TZOFFSETFROM:-0400
TZOFFSETTO:-0500
TZNAME:EST
DTSTART:20251102T060000
END:STANDARD
BEGIN:DAYLIGHT
TZOFFSETFROM:-0500
TZOFFSETTO:-0400
TZNAME:EDT
DTSTART:20260308T070000
END:DAYLIGHT
BEGIN:STANDARD
TZOFFSETFROM:-0400
TZOFFSETTO:-0500
TZNAME:EST
DTSTART:20261101T060000
END:STANDARD
BEGIN:DAYLIGHT
TZOFFSETFROM:-0500
TZOFFSETTO:-0400
TZNAME:EDT
DTSTART:20270314T070000
END:DAYLIGHT
BEGIN:STANDARD
TZOFFSETFROM:-0400
TZOFFSETTO:-0500
TZNAME:EST
DTSTART:20271107T060000
END:STANDARD
END:VTIMEZONE
BEGIN:VEVENT
DTSTART;TZID=America/New_York:20260130T080000
DTEND;TZID=America/New_York:20260130T170000
DTSTAMP:20260423T153457
CREATED:20260116T233956Z
LAST-MODIFIED:20260116T234058Z
UID:1302-1769760000-1769792400@www.austria-boston.org
SUMMARY:The Zero Hour - Inaugural Concert of the Helix Ensemble
DESCRIPTION:Free Admission \nProgram: \nArnold Schönberg\, Verklärte Nacht (1899) \nRichard Strauss\, Methamorphosen (1945) \nTianyi Timothy Wren\, Conductor \n \n 
URL:https://www.austria-boston.org/event/the-zero-hour-inaugural-concert-of-the-helix-ensemble/
LOCATION:Church of the Covenant\, 67 Newbury St\, Boston\, MA\, 02116\, United States
CATEGORIES:External Events
END:VEVENT
BEGIN:VEVENT
DTSTART;TZID=America/New_York:20260111T150000
DTEND;TZID=America/New_York:20260111T170000
DTSTAMP:20260423T153457
CREATED:20251231T213344Z
LAST-MODIFIED:20251231T213344Z
UID:1295-1768143600-1768150800@www.austria-boston.org
SUMMARY:"Calm and Storm" - Boston Philharmonic Youth Orchestra
DESCRIPTION:The Austro-American Association\nScholarship Award recipient\nMichael Fisher\nwill be the Concertmaster\nat a Boston Philharmonic Youth Orchestra concert on\nJanuary 11\, 2026\, at 3:00 pm\nat the Lincoln-Sudbury Regional High School\n390 Lincoln Rd.\, Sudbury\, MA \nThe program entitled\n“Calm and Storm”\nwill include\nBeethoven – Symphony #7\nRossini – William Tell Overture\nSaint Saens – Introduction and Capriccioso \nA-AA 2026-01-11 NewsFlash – Michael Fisher.pdf
URL:https://www.austria-boston.org/event/calm-and-storm-boston-philharmonic-youth-orchestra/
LOCATION:Lincoln-Sudbury Regional High School\, 390 Lincoln Rd\, Sudbury\, MA\, 01776\, United States
CATEGORIES:External Events
END:VEVENT
BEGIN:VEVENT
DTSTART;TZID=America/New_York:20221211T140000
DTEND;TZID=America/New_York:20221211T170000
DTSTAMP:20260423T153457
CREATED:20221130T144635Z
LAST-MODIFIED:20221130T144919Z
UID:1022-1670767200-1670778000@www.austria-boston.org
SUMMARY:BSV Sängerchor Boston Christmas Concert
DESCRIPTION:The BSV Sängerchor Boston will have a Christmas concert on Sunday\, December 11 at 2 PM at the German Club in Walpole. Santa Claus will also visit! \nWe will serve a traditional German Christmas meal\, Wuerstchen and German potato salad\, before the concert. \nAfter the concert\, coffee and hot chocolate for children and Apfelstrudel will be served. \nTickets can be bought online for $25 for adults\, $10 for children 5-12\, and include the concert\, the meal and the dessert \nDownload a flyer \n 
URL:https://www.austria-boston.org/event/bsv-sangerchor-boston-christmas-concert/
LOCATION:Boylston Schul-Verein\, 8 County St\, Walpole\, 02081\, United States
CATEGORIES:External Events
END:VEVENT
BEGIN:VEVENT
DTSTART;TZID=America/New_York:20221023T140000
DTEND;TZID=America/New_York:20221023T163000
DTSTAMP:20260423T153457
CREATED:20221014T170902Z
LAST-MODIFIED:20221014T171506Z
UID:1005-1666533600-1666542600@www.austria-boston.org
SUMMARY:Singen macht Freude / The Joy of Singing!
DESCRIPTION:The BSV Sängerchor Boston will present  the concert \nSingen macht Freude / The Joy of Singing!\non Sunday\, October 23 from 2 to 4:30 p.m. at the German Club in Walpole. Join us for an afternoon of German Folk and Popular Songs.  \nRefreshments will be served before the concert\, afterwards coffee and cake. \nTickets: $25 for adults\, $10 for children 5 to 12 include the refreshments\, coffee\, tea\, hot chocolate\, and cake. \nTickets can be bought online: http://www.bsvmembers.org/Events or you can also pay by check. \nPlease see our flyer and our website www.saengerchorboston.com for more details or call Ilse Lister #978.468.6192.
URL:https://www.austria-boston.org/event/singen-macht-freude-the-joy-of-singing/
LOCATION:Boylston Schul-Verein\, 8 County St\, Walpole\, 02081\, United States
CATEGORIES:External Events
END:VEVENT
BEGIN:VEVENT
DTSTART;TZID=America/New_York:20200105T000000
DTEND;TZID=America/New_York:20200105T000000
DTSTAMP:20260423T153457
CREATED:20220216T005729Z
LAST-MODIFIED:20220216T005729Z
UID:180-1578182400-1578182400@www.austria-boston.org
SUMMARY:Salute to Vienna New Year's Concert at the Boston Symphony Hall (2:30pm)
DESCRIPTION:
URL:https://www.austria-boston.org/event/salute-to-vienna-new-years-concert-at-the-boston-symphony-hall-230pm/
LOCATION:MA
CATEGORIES:External Events
END:VEVENT
BEGIN:VEVENT
DTSTART;TZID=America/New_York:20191215T000000
DTEND;TZID=America/New_York:20191215T000000
DTSTAMP:20260423T153457
CREATED:20220216T005729Z
LAST-MODIFIED:20220216T005729Z
UID:182-1576368000-1576368000@www.austria-boston.org
SUMMARY:Sängerchor Boston Weihnachtskonzert (BSV)
DESCRIPTION:Flyer: A-AA-2019-12-15-Weihnachtskonzert.pdf
URL:https://www.austria-boston.org/event/sangerchor-boston-weihnachtskonzert-bsv/
LOCATION:MA
CATEGORIES:External Events
END:VEVENT
BEGIN:VEVENT
DTSTART;TZID=America/New_York:20170624T000000
DTEND;TZID=America/New_York:20170624T000000
DTSTAMP:20260423T153457
CREATED:20220216T010014Z
LAST-MODIFIED:20220216T010014Z
UID:203-1498262400-1498262400@www.austria-boston.org
SUMMARY:Patricia Metzer (Soprano)- Concert in Cambridge
DESCRIPTION:Flyer: A-AA-2017-06-24-PatriciaMetzer.pdf
URL:https://www.austria-boston.org/event/patricia-metzer-soprano-concert-in-cambridge/
LOCATION:MA
CATEGORIES:External Events
END:VEVENT
BEGIN:VEVENT
DTSTART;TZID=America/New_York:20160103T000000
DTEND;TZID=America/New_York:20160103T000000
DTSTAMP:20260423T153457
CREATED:20220216T010614Z
LAST-MODIFIED:20220216T010614Z
UID:219-1451779200-1451779200@www.austria-boston.org
SUMMARY:Salute to Vienna New Year's Concert
DESCRIPTION:
URL:https://www.austria-boston.org/event/salute-to-vienna-new-years-concert-2/
LOCATION:MA
CATEGORIES:External Events
END:VEVENT
BEGIN:VEVENT
DTSTART;TZID=America/New_York:20140104T000000
DTEND;TZID=America/New_York:20140104T000000
DTSTAMP:20260423T153457
CREATED:20220216T011257Z
LAST-MODIFIED:20220216T011257Z
UID:246-1388793600-1388793600@www.austria-boston.org
SUMMARY:A Vienna New Year's Concert: The Diva and the Fiddler - Crowell Chapel\, Manchester by the Sea
DESCRIPTION:
URL:https://www.austria-boston.org/event/a-vienna-new-years-concert-the-diva-and-the-fiddler-crowell-chapel-manchester-by-the-sea/
LOCATION:MA
CATEGORIES:External Events
END:VEVENT
BEGIN:VEVENT
DTSTART;TZID=America/New_York:20131208T000000
DTEND;TZID=America/New_York:20131208T000000
DTSTAMP:20260423T153457
CREATED:20220216T011456Z
LAST-MODIFIED:20220216T011456Z
UID:250-1386460800-1386460800@www.austria-boston.org
SUMMARY:Holiday Pops Concert\, Brockton Symphony
DESCRIPTION:
URL:https://www.austria-boston.org/event/holiday-pops-concert-brockton-symphony/
LOCATION:MA
CATEGORIES:External Events
END:VEVENT
BEGIN:VEVENT
DTSTART;TZID=America/New_York:20131206T000000
DTEND;TZID=America/New_York:20131206T000000
DTSTAMP:20260423T153457
CREATED:20220216T011456Z
LAST-MODIFIED:20220216T011456Z
UID:251-1386288000-1386288000@www.austria-boston.org
SUMMARY:Vienna Boys Choir\, St. Paul's Church\, Cambridge
DESCRIPTION:
URL:https://www.austria-boston.org/event/vienna-boys-choir-st-pauls-church-cambridge/
LOCATION:MA
CATEGORIES:External Events
END:VEVENT
BEGIN:VEVENT
DTSTART;TZID=America/New_York:20131123T000000
DTEND;TZID=America/New_York:20131123T000000
DTSTAMP:20260423T153457
CREATED:20220216T011456Z
LAST-MODIFIED:20220216T011456Z
UID:252-1385164800-1385164800@www.austria-boston.org
SUMMARY:Viva Verdi! Manchester by the Sea
DESCRIPTION:
URL:https://www.austria-boston.org/event/viva-verdi-manchester-by-the-sea/
LOCATION:MA
CATEGORIES:External Events
END:VEVENT
BEGIN:VEVENT
DTSTART;TZID=America/New_York:20130217T000000
DTEND;TZID=America/New_York:20130217T000000
DTSTAMP:20260423T153457
CREATED:20220216T011856Z
LAST-MODIFIED:20220216T011856Z
UID:263-1361059200-1361059200@www.austria-boston.org
SUMMARY:AUSTRIAN AMBASSADORS\, Concert in Nashua\, NH (free admission)
DESCRIPTION:
URL:https://www.austria-boston.org/event/austrian-ambassadors-concert-in-nashua-nh-free-admission/
LOCATION:MA
CATEGORIES:External Events
END:VEVENT
BEGIN:VEVENT
DTSTART;TZID=America/New_York:20100122T000000
DTEND;TZID=America/New_York:20100122T000000
DTSTAMP:20260423T153457
CREATED:20220216T012620Z
LAST-MODIFIED:20220216T012620Z
UID:300-1264118400-1264118400@www.austria-boston.org
SUMMARY:Ingeborg Bachmann Exhibit in Worcester\, MA
DESCRIPTION:
URL:https://www.austria-boston.org/event/ingeborg-bachmann-exhibit-in-worcester-ma/
LOCATION:MA
CATEGORIES:External Events
END:VEVENT
BEGIN:VEVENT
DTSTART;TZID=America/New_York:20090520T000000
DTEND;TZID=America/New_York:20090520T000000
DTSTAMP:20260423T153457
CREATED:20220216T013019Z
LAST-MODIFIED:20220216T013019Z
UID:306-1242777600-1242777600@www.austria-boston.org
SUMMARY:Alumni of the Johannes Kepler University in Linz/Austria are invited to a meet-up in Boston
DESCRIPTION:Flyer: JKUAlumniTreffen2009.pdf
URL:https://www.austria-boston.org/event/alumni-of-the-johannes-kepler-university-in-linz-austria-are-invited-to-a-meet-up-in-boston/
LOCATION:MA
CATEGORIES:External Events
END:VEVENT
BEGIN:VEVENT
DTSTART;TZID=America/New_York:20090227T000000
DTEND;TZID=America/New_York:20090227T000000
DTSTAMP:20260423T153457
CREATED:20220216T013020Z
LAST-MODIFIED:20220216T013020Z
UID:310-1235692800-1235692800@www.austria-boston.org
SUMMARY:Ein Abend mit Walo Deuber und Hansjörg Schertenleib (Swiss Consulate in Boston)
DESCRIPTION:Flyer: 2do_you_speak_or_understand_german.pdf
URL:https://www.austria-boston.org/event/ein-abend-mit-walo-deuber-und-hansjorg-schertenleib-swiss-consulate-in-boston/
LOCATION:MA
CATEGORIES:External Events
END:VEVENT
BEGIN:VEVENT
DTSTART;TZID=America/New_York:20080926T000000
DTEND;TZID=America/New_York:20080926T000000
DTSTAMP:20260423T153457
CREATED:20220216T013220Z
LAST-MODIFIED:20220216T013220Z
UID:315-1222387200-1222387200@www.austria-boston.org
SUMMARY:Alfred Gusenbauer at Boston University's School of Management
DESCRIPTION:
URL:https://www.austria-boston.org/event/alfred-gusenbauer-at-boston-universitys-school-of-management/
LOCATION:MA
CATEGORIES:External Events
END:VEVENT
BEGIN:VEVENT
DTSTART;TZID=America/New_York:20080827T000000
DTEND;TZID=America/New_York:20080827T000000
DTSTAMP:20260423T153457
CREATED:20220216T013419Z
LAST-MODIFIED:20220216T013419Z
UID:316-1219795200-1219795200@www.austria-boston.org
SUMMARY:Concert at the Hatch Shell on the Esplanade in Boston
DESCRIPTION:Flyer: A-AA-2008-08-27-ConcertFlyer.pdf
URL:https://www.austria-boston.org/event/concert-at-the-hatch-shell-on-the-esplanade-in-boston/
LOCATION:MA
CATEGORIES:External Events
END:VEVENT
BEGIN:VEVENT
DTSTART;TZID=America/New_York:20080509T000000
DTEND;TZID=America/New_York:20080509T000000
DTSTAMP:20260423T153457
CREATED:20220216T013420Z
LAST-MODIFIED:20220216T013420Z
UID:320-1210291200-1210291200@www.austria-boston.org
SUMMARY:Revolution and Its Discontents: Bernanos\, Poulenc and their Dialogues of the Carmelites [HARVARD-LYRICA DIALOGUES 2008] 4–6 PM\, Dudley House\, Lehman Hall\, Harvard Yard
DESCRIPTION:Flyer: Dialogues2008_0509.pdf
URL:https://www.austria-boston.org/event/revolution-and-its-discontents-bernanos-poulenc-and-their-dialogues-of-the-carmelites-harvard-lyrica-dialogues-2008-4-6-pm-dudley-house-lehman-hall-harvard-yard/
LOCATION:MA
CATEGORIES:External Events
END:VEVENT
BEGIN:VEVENT
DTSTART;TZID=America/New_York:20080423T000000
DTEND;TZID=America/New_York:20080423T000000
DTSTAMP:20260423T153457
CREATED:20220216T013619Z
LAST-MODIFIED:20220216T013619Z
UID:321-1208908800-1208908800@www.austria-boston.org
SUMMARY:Vienna\, Decorous and Indecorous (Lecture by Peter Burgard\, Fogg Art Museum\, Cambridge)
DESCRIPTION:
URL:https://www.austria-boston.org/event/vienna-decorous-and-indecorous-lecture-by-peter-burgard-fogg-art-museum-cambridge/
LOCATION:MA
CATEGORIES:External Events
END:VEVENT
BEGIN:VEVENT
DTSTART;TZID=America/New_York:20080418T000000
DTEND;TZID=America/New_York:20080418T000000
DTSTAMP:20260423T153457
CREATED:20220216T013619Z
LAST-MODIFIED:20220216T013619Z
UID:322-1208476800-1208476800@www.austria-boston.org
SUMMARY:In Memoriam  Martin Luther King\, Jr. (1929-68) and Robert F. Kennedy (1925-68): World Première: And Music Will Not End – Songs by Lori Laitman [HARVARD-LYRICA DIALOGUES 2008] 4–6 PM\, Dudley House\, Lehman Hall\, Harvard Yard
DESCRIPTION:Flyer: Dialogues2008_2.pdf
URL:https://www.austria-boston.org/event/in-memoriam-martin-luther-king-jr-1929-68-and-robert-f-kennedy-1925-68-world-premiere-and-music-will-not-end-songs-by-lori-laitman-harvard-lyrica-dialogues-2008-4-6-pm-d/
LOCATION:MA
CATEGORIES:External Events
END:VEVENT
BEGIN:VEVENT
DTSTART;TZID=America/New_York:20080314T000000
DTEND;TZID=America/New_York:20080314T000000
DTSTAMP:20260423T153457
CREATED:20220216T013620Z
LAST-MODIFIED:20220216T013620Z
UID:325-1205452800-1205452800@www.austria-boston.org
SUMMARY:Death\, Concentrated: Viktor Ullmann’s Der Kaiser von Atlantis [HARVARD-LYRICA DIALOGUES 2008] 4–6 PM\, Dudley House\, Lehman Hall\, Harvard Yard
DESCRIPTION:Flyer: Dialogues2008_0314.pdf
URL:https://www.austria-boston.org/event/death-concentrated-viktor-ullmanns-der-kaiser-von-atlantis-harvard-lyrica-dialogues-2008-4-6-pm-dudley-house-lehman-hall-harvard-yard/
LOCATION:MA
CATEGORIES:External Events
END:VEVENT
BEGIN:VEVENT
DTSTART;TZID=America/New_York:20080308T000000
DTEND;TZID=America/New_York:20080308T000000
DTSTAMP:20260423T153457
CREATED:20220216T013700Z
LAST-MODIFIED:20220216T013700Z
UID:326-1204934400-1204934400@www.austria-boston.org
SUMMARY:2008 Viennese Ball at the Harvard Club
DESCRIPTION:2008VienneseBall.gif
URL:https://www.austria-boston.org/event/2008-viennese-ball-at-the-harvard-club/
LOCATION:MA
CATEGORIES:External Events
END:VEVENT
BEGIN:VEVENT
DTSTART;TZID=America/New_York:20080215T000000
DTEND;TZID=America/New_York:20080215T000000
DTSTAMP:20260423T153457
CREATED:20220216T013701Z
LAST-MODIFIED:20220216T013701Z
UID:328-1203033600-1203033600@www.austria-boston.org
SUMMARY:"Fragment" and "Apostrophe" in German Lieder [HARVARD-LYRICA DIALOGUES 2008] 4–6 PM\, Dudley House\, Lehman Hall\, Harvard Yard
DESCRIPTION:Flyer: Dialogues2008.pdf
URL:https://www.austria-boston.org/event/fragment-and-apostrophe-in-german-lieder-harvard-lyrica-dialogues-2008-4-6-pm-dudley-house-lehman-hall-harvard-yard/
LOCATION:MA
CATEGORIES:External Events
END:VEVENT
BEGIN:VEVENT
DTSTART;TZID=America/New_York:20071214T000000
DTEND;TZID=America/New_York:20071214T000000
DTSTAMP:20260423T153457
CREATED:20220216T013716Z
LAST-MODIFIED:20220216T013716Z
UID:332-1197590400-1197590400@www.austria-boston.org
SUMMARY:Vienna Boys Choir Holiday Celebration in Lowell
DESCRIPTION:Flyer: A-AA2007-10-13OtherEvents.pdf
URL:https://www.austria-boston.org/event/vienna-boys-choir-holiday-celebration-in-lowell/
LOCATION:MA
CATEGORIES:External Events
END:VEVENT
BEGIN:VEVENT
DTSTART;TZID=America/New_York:20071128T000000
DTEND;TZID=America/New_York:20071128T000000
DTSTAMP:20260423T153457
CREATED:20220216T013716Z
LAST-MODIFIED:20220216T013716Z
UID:334-1196208000-1196208000@www.austria-boston.org
SUMMARY:Weihnachtsshow at the Boylston Schulverein\, Walpole
DESCRIPTION:Flyer: A-AA2007-10-13OtherEvents.pdf
URL:https://www.austria-boston.org/event/weihnachtsshow-at-the-boylston-schulverein-walpole/
LOCATION:MA
CATEGORIES:External Events
END:VEVENT
BEGIN:VEVENT
DTSTART;TZID=America/New_York:20070908T000000
DTEND;TZID=America/New_York:20070908T000000
DTSTAMP:20260423T153457
CREATED:20220216T013916Z
LAST-MODIFIED:20220216T013916Z
UID:338-1189209600-1189209600@www.austria-boston.org
SUMMARY:Oktoberfest at the Boylston Schulverein\, Walpole
DESCRIPTION:
URL:https://www.austria-boston.org/event/oktoberfest-at-the-boylston-schulverein-walpole/
LOCATION:MA
CATEGORIES:External Events
END:VEVENT
BEGIN:VEVENT
DTSTART;TZID=America/New_York:20060525T000000
DTEND;TZID=America/New_York:20060525T000000
DTSTAMP:20260423T153457
CREATED:20220216T014215Z
LAST-MODIFIED:20220216T014215Z
UID:354-1148515200-1148515200@www.austria-boston.org
SUMMARY:3rd Annual "Best of the Wurst" Festival (3 days) at the Inn at Danbury
DESCRIPTION:
URL:https://www.austria-boston.org/event/3rd-annual-best-of-the-wurst-festival-3-days-at-the-inn-at-danbury/
LOCATION:MA
CATEGORIES:External Events
END:VEVENT
BEGIN:VEVENT
DTSTART;TZID=America/New_York:20060426T000000
DTEND;TZID=America/New_York:20060426T000000
DTSTAMP:20260423T153457
CREATED:20220216T014229Z
LAST-MODIFIED:20220216T014229Z
UID:356-1146009600-1146009600@www.austria-boston.org
SUMMARY:Opening of Austrian artist Erwin Wurm's exhibit at the Rose Art Museum of Brandeis University\, Waltham (6pm). The artist will give a talk at the Rose Art Museum on May 3\, at 7pm.
DESCRIPTION:
URL:https://www.austria-boston.org/event/opening-of-austrian-artist-erwin-wurms-exhibit-at-the-rose-art-museum-of-brandeis-university-waltham-6pm-the-artist-will-give-a-talk-at-the-rose-art-museum-on-may-3-at-7pm/
LOCATION:MA
CATEGORIES:External Events
END:VEVENT
BEGIN:VEVENT
DTSTART;TZID=America/New_York:20060407T000000
DTEND;TZID=America/New_York:20060407T000000
DTSTAMP:20260423T153457
CREATED:20220216T014230Z
LAST-MODIFIED:20220216T014230Z
UID:357-1144368000-1144368000@www.austria-boston.org
SUMMARY:Center for European Studies at Harvard: Small States in a Global World: Austria in Comparative Perspective
DESCRIPTION:
URL:https://www.austria-boston.org/event/center-for-european-studies-at-harvard-small-states-in-a-global-world-austria-in-comparative-perspective/
LOCATION:MA
CATEGORIES:External Events
END:VEVENT
END:VCALENDAR